BEGIN:VCALENDAR
VERSION:2.0
PRODID:-//wp-events-plugin.com//7.2.3.1//EN
TZID:Europe/Warsaw
X-WR-TIMEZONE:Europe/Warsaw
BEGIN:VEVENT
UID:11740@night4u.pl
DTSTART;TZID=Europe/Warsaw:20190405T220000
DTEND;TZID=Europe/Warsaw:20190406T050000
DTSTAMP:20190403T193721Z
URL:https://night4u.pl/wydarzenia/colours-of-coyote-dj-gregory/
SUMMARY:Colours of Coyote - DJ Gregory!
DESCRIPTION:Colours of Coyote\n\nDzisiejszym gościem specjalnym będzie DJ
  Gregory prosto z Poznania! \n\nGregory DJ jest znany z rozpalania parkiet
 ów w wielu lokalach w całej Polsce! Najgorętsze hity w jego remixach na
  żywo tylko u nas!\n \nZarezerwuj loże oraz wybierz jeden z 4 pakietów 
 w cenie 80 zł przez całą noc! \n\n- Smirnoff Black 0\,7 z napojem\n- Jo
 hnnie Walker Red Label 0\,7 z napojem\n- Captain Morgan White Rum lub Spic
 ed Rum 0\,7 z napojem\n- Gordon’s London Dry Gin 0\,7 z napojem\n\nStart
  22.00.\nPanie wstęp 10 zł Panowie wstęp 20 zł!\nDla studentów wstęp
  Darmowy przez całą noc!\nRezerwacja loży 80 zł lub w cenie dowolnego 
 pakietu startowego.\nTel. 509 33 10 34
ATTACH;FMTTYPE=image/jpeg:https://night4u.pl/wp-content/uploads/2019/04/30
 169_image_55548588_10158442030832796_1693690477385089024_o.jpg
CATEGORIES:zachodniopomorskie
LOCATION:Coyote Club\, ul.Jagiellońska 89\, Szczecin\, Poland
GEO:53.431;14.54384
X-APPLE-STRUCTURED-LOCATION;VALUE=URI;X-ADDRESS=ul.Jagiellońska 89\, Szcze
 cin\, Poland;X-APPLE-RADIUS=100;X-TITLE=Coyote Club:geo:53.431,14.54384
END:VEVENT
BEGIN:VTIMEZONE
TZID:Europe/Warsaw
X-LIC-LOCATION:Europe/Warsaw
BEGIN:DAYLIGHT
DTSTART:20190331T030000
TZOFFSETFROM:+0100
TZOFFSETTO:+0200
TZNAME:CEST
END:DAYLIGHT
END:VTIMEZONE
END:VCALENDAR