BEGIN:VCALENDAR
VERSION:2.0
PRODID:-//wp-events-plugin.com//7.2.3.1//EN
TZID:Europe/Warsaw
X-WR-TIMEZONE:Europe/Warsaw
BEGIN:VEVENT
UID:2030@night4u.pl
DTSTART;TZID=Europe/Warsaw:20190124T190000
DTEND;TZID=Europe/Warsaw:20190124T220000
DTSTAMP:20181231T132908Z
URL:https://night4u.pl/wydarzenia/cory-henry-the-revival-24-01-2019-warsza
 wa-niebo/
SUMMARY:Cory Henry (The Revival): 24.01.2019 Warszawa\, Niebo
DESCRIPTION:Cory Henry powraca do Warszawy z The Revival! Wybitny muzyk jaz
 zowy wraz z Taron Lockett i Isaiah Sharkey zagrają 24 stycznia w warszaws
 kim klubie Niebo.\n\nAmerykański muzyk to przede wszystkim dwukrotny laur
 eat nagrody Grammy\, pianista jazzowy i producent. W jego muzyce słychać
  wpływy nowojorskiego dzieciństwa i inspirację muzyką gospel\, a takż
 e popkulturowymi legendami - jak chociażby Stevie Wonder. Cory Henry nauk
 ę gry na pianinie rozpoczął już w wieku dwóch lat\, a pierwszy koncer
 t w nowojorskim teatrze Apollo zagrał jeszcze jako dziecko.\n\nKoncertowa
 nie na dobre zagościło w jego życiu w 2006 roku\, kiedy rozpoczął gra
 ć z takimi artystami jak Bruce Springsteen\, The Roots czy P. Diddy. Pier
 wszy album („First Steps”) wydał w 2014 roku. Krążek znalazł się 
 w notowaniach Billboardu i Top Gospel Music. Druga płyta\, „The Revival
 ”\, światło dzienne ujrzała w 2016 roku. Jest to zapis występu na ż
 ywo\, gdzie zagrał na kultowym instrumencie\, którego uczył się jeszcz
 e jako dziecko.\n\nWięcej o projekcie „The Revival”:\n\nhttps://www.y
 outube.com/watch?v=iuFNtGqel0I\n\nCharyzmatyczna osobowość i dynamiczne\
 , często improwizowane występy na żywo przysporzyły amerykańskiemu mu
 zykowi sporej grupy fanów\, którzy z wyczekiwaniem śledzą kolejne muzy
 czne kroki artysty. Ostatni koncert muzyka w Warszawie przyciągnął spor
 ą publiczność\, którą całkowicie zachwycił swoim występem na żywo
 .\n\nPrzypominamy\, że kupując bilety od osób umieszczających oferty o
 dsprzedaży na Facebooku możecie Państwo zostać oszukani – ryzykujeci
 e w ten sposób kupno fałszywych wejściówek\, które nie umożliwią we
 jścia na koncert. Prosimy o kupowanie biletów wyłącznie w autoryzowany
 ch punktach sprzedaży! Autoryzowanymi punktami sprzedaży nie są m.in. V
 iagogo\, Ticketswap\, Allegro\, OLX. \n\nData: 2019-01-24 (czwartek)\nMias
 to: Warszawa\nMiejsce: NIEBO\nAdres: ul. Nowy Świat 21\nGodziny: 19:00 - 
 wejście // 20:00 - start koncertu\nCeny biletów: 89 zł (przedsprzedaż)
  // 100 zł (w dniu koncertu)\nMiejsca sprzedaży: www.go-ahead.pl\, www.b
 iletomat.pl\, www.ebilet.pl\, www.ticketmaster.pl\, www.ticketclub.pl\, ww
 w.empikbilety.pl oraz sklepy sieci Empik\, Media Markt\, Saturn
ATTACH;FMTTYPE=image/jpeg:https://night4u.pl/wp-content/uploads/2018/12/80
 73_image_44758962_10161127779320486_2614551308396396544_o.jpg
CATEGORIES:mazowieckie
LOCATION:NIEBO\, ul. Nowy Świat 21\, Warsaw\, 00-029\, Poland
GEO:52.23238;21.018267
X-APPLE-STRUCTURED-LOCATION;VALUE=URI;X-ADDRESS=ul. Nowy Świat 21\, Warsaw
 \, 00-029\, Poland;X-APPLE-RADIUS=100;X-TITLE=NIEBO:geo:52.23238,21.018267
END:VEVENT
BEGIN:VTIMEZONE
TZID:Europe/Warsaw
X-LIC-LOCATION:Europe/Warsaw
BEGIN:STANDARD
DTSTART:20181028T020000
TZOFFSETFROM:+0200
TZOFFSETTO:+0100
TZNAME:CET
END:STANDARD
END:VTIMEZONE
END:VCALENDAR