BEGIN:VCALENDAR
VERSION:2.0
PRODID:-//wp-events-plugin.com//7.2.3.1//EN
TZID:Europe/Warsaw
X-WR-TIMEZONE:Europe/Warsaw
BEGIN:VEVENT
UID:36097@night4u.pl
DTSTART;TZID=Europe/Warsaw:20191121T220000
DTEND;TZID=Europe/Warsaw:20191122T050000
DTSTAMP:20191119T103549Z
URL:https://night4u.pl/wydarzenia/coyote-double-7/
SUMMARY:Coyote Double
DESCRIPTION:Czwartek w Coyote Club! - A co to oznacza? \n\nTak! To właśni
 e dzisiaj wszystko lejemy podwójnie! Mamy nadzieję\, że będziecie się
  bawić tej nocy właśnie z nami! \nPrzez całą noc gwarantujemy Wam św
 ietną zabawę do białego rana! Pamiętaj! Bez Ciebie nie gramy!\nStart 2
 2:00\nWstęp dla studentów za darmo przez całą noc!\nPozostali 10 zł\n
 Rezerwacje 509 33 10 34
ATTACH;FMTTYPE=image/jpeg:https://night4u.pl/wp-content/uploads/2019/11/97
 368_image_74891477_10159198451477796_4905251560004517888_n.jpg
CATEGORIES:zachodniopomorskie
LOCATION:Coyote Club\, ul.Jagiellońska 89\, Szczecin\, Poland
GEO:53.431;14.54384
X-APPLE-STRUCTURED-LOCATION;VALUE=URI;X-ADDRESS=ul.Jagiellońska 89\, Szcze
 cin\, Poland;X-APPLE-RADIUS=100;X-TITLE=Coyote Club:geo:53.431,14.54384
END:VEVENT
BEGIN:VTIMEZONE
TZID:Europe/Warsaw
X-LIC-LOCATION:Europe/Warsaw
BEGIN:STANDARD
DTSTART:20191027T020000
TZOFFSETFROM:+0200
TZOFFSETTO:+0100
TZNAME:CET
END:STANDARD
END:VTIMEZONE
END:VCALENDAR