BEGIN:VCALENDAR
VERSION:2.0
PRODID:-//wp-events-plugin.com//7.2.3.1//EN
TZID:Europe/Warsaw
X-WR-TIMEZONE:Europe/Warsaw
BEGIN:VEVENT
UID:50279@night4u.pl
DTSTART;TZID=Europe/Warsaw:20200327T180000
DTEND;TZID=Europe/Warsaw:20200328T060000
DTSTAMP:20200313T090526Z
URL:https://night4u.pl/wydarzenia/crazy-fridays-przy-muzyce-lat-8090-w-ant
 rakcie-2/
SUMMARY:Crazy Fridays przy muzyce lat 80'90' w Antrakcie !
DESCRIPTION:Serdecznie zapraszamy na zwariowane piątki w klubie Antrakt pr
 zy muzyce lat 80'90' wykonaniu różnych nowych D.J. ów z różnymi muzyc
 znymi niespodziankami np. w połączeniu z saksofonistą czy skrzypaczką 
 ... W tym dniu będzie królować na parkiecie przede wszystkim muzyka lat
 ino z lat 80'90' takich wykonawców jak  Rickin Martin \, Enrique Iglesias
  itd... oraz dla osób ceniących sobie intymność \, anonimowość nie b
 ędzie fotografa i foto relacji  \;)\n\nTu możesz poznać swoją drugą p
 ołówkę \, jesteś samotny \, samotna \, zmień to ...  u Nas w klubie d
 użo osób odnalazło swoją miłość ( i tą pierwszą i tą drugą ... 
 \;) \, najlepsze single party w mieście tylko w Antrakcie !\n\nPiątek je
 st doskonałym dniem na zamknięcie pracowitego tygodnia i rozpoczęciu re
 laksującego weekendu w Antrakcie ...\n\nZapraszamy na lepszą połowę no
 cy od godziny 18:00 do ostatniego gościa na Zachodnią 95 ... \n\nDla go
 ści \, którzy przyjdą do godziny 22:00 welcome drink GRATIS !\n\n06.03.
 2020 ( piątek ) \, 21.03.2020 ( sobota )  nowy D.J. Cola Jakub Morawski (
  przyjdźcie posłuchajcie i oceńcie jak Wam się spodobał ? ) \n12.03.2
 020 ( piątek ) D.J. Pepe Dawid Peska i saksofonista\n20.03.2020 ( piątek
  ) D.J. Pepe Dawid Peska i skrzypaczka \n27.03.2020 ( piątek ) D.J. Fresh
  Marcin Kowalski REZYDENT\n\n5 sal \, dużych \, małych w tym 2 VIP specj
 alnie dla Was w wyjątkowym \, niepowtarzalnym klimacie ...\n\nRezerwacje 
 pod numerem telefonu : 508 872 366 antraktclub@antraktclub.pl www.antraktc
 lub.pl
ATTACH;FMTTYPE=image/jpeg:https://night4u.pl/wp-content/uploads/2020/03/17
 6015_image_89506922_1484934588348417_2213065530867187712_o.jpg
CATEGORIES:łódzkie
LOCATION:Antrakt Club\, Zachodnia 95\, Łódź\, 90-721\, Poland
GEO:51.772595;19.452709
X-APPLE-STRUCTURED-LOCATION;VALUE=URI;X-ADDRESS=Zachodnia 95\, Łódź\, 90
 -721\, Poland;X-APPLE-RADIUS=100;X-TITLE=Antrakt Club:geo:51.772595,19.452
 709
END:VEVENT
BEGIN:VTIMEZONE
TZID:Europe/Warsaw
X-LIC-LOCATION:Europe/Warsaw
BEGIN:STANDARD
DTSTART:20191027T020000
TZOFFSETFROM:+0200
TZOFFSETTO:+0100
TZNAME:CET
END:STANDARD
END:VTIMEZONE
END:VCALENDAR