BEGIN:VCALENDAR
VERSION:2.0
PRODID:-//wp-events-plugin.com//7.2.3.1//EN
TZID:Europe/Warsaw
X-WR-TIMEZONE:Europe/Warsaw
BEGIN:VEVENT
UID:42031@night4u.pl
DTSTART;TZID=Europe/Warsaw:20200111T212100
DTEND;TZID=Europe/Warsaw:20200112T044400
DTSTAMP:20200111T174521Z
URL:https://night4u.pl/wydarzenia/crazy-sexy-cool-24/
SUMMARY:Crazy Sexy Cool #24
DESCRIPTION:HOLLA! HOLLA! \nTęskniliście?\nRozgrzani do czerwoności wcho
 dzimy w NOWY ROK!\n\nWasz ukochany Dj Bulb przez całą noc będzie puszcz
 ał wasze ulubione kawałki!\n\nCo zagramy? HH i R&amp\;B z przełomu wiek
 ów. Nie poczujesz się oszukany\, bo po północy nie wjadą twerki i wie
 rtarki\, pojawią się za to pierścienie WU.LOVERS od dee.projekt za najl
 epsze stylówy :)\nNie usłyszycie też mashupów\, tylko numery z waszych
  ulubionych playlist.\n\nOd teraz do dnia imprezy trwa  KONKURS DRINKOWY. 
 Wygrać możesz na dwa sposoby:\n1. Umieszczając najbardziej lajkowany ka
 wałek w wydarzeniu\n2. Zapraszając na wydarzenie dużą liczbę znajomyc
 h\n\nMam nadzieję\, że będzie gorąco\, sentymentalnie i magicznie – 
 jak zawsze! Sprawdź nas\, a na pewno wrócisz :)\n\nBIG UP! \nDuśka Zuo 
 &amp\; Dj Bulb\nMostBlunted\n\nParkietem bujają:  Radio Kampus • JazzSo
 ul.pl • \n\nWejście 10zł (gotówka)
ATTACH;FMTTYPE=image/jpeg:https://night4u.pl/wp-content/uploads/2020/01/13
 2576_image_82797829_1218123788576978_1145511998826479616_n.jpg
CATEGORIES:mazowieckie
LOCATION:Klub Hydrozagadka\, 11 listopada 22\, 03-436 Warszawa\, Poland\, P
 raga\, 03-436\, Poland
GEO:52.259283;21.036925
X-APPLE-STRUCTURED-LOCATION;VALUE=URI;X-ADDRESS=11 listopada 22\, 03-436 Wa
 rszawa\, Poland\, Praga\, 03-436\, Poland;X-APPLE-RADIUS=100;X-TITLE=Klub 
 Hydrozagadka:geo:52.259283,21.036925
END:VEVENT
BEGIN:VTIMEZONE
TZID:Europe/Warsaw
X-LIC-LOCATION:Europe/Warsaw
BEGIN:STANDARD
DTSTART:20191027T020000
TZOFFSETFROM:+0200
TZOFFSETTO:+0100
TZNAME:CET
END:STANDARD
END:VTIMEZONE
END:VCALENDAR