BEGIN:VCALENDAR
VERSION:2.0
PRODID:-//wp-events-plugin.com//7.2.3.1//EN
TZID:Europe/Warsaw
X-WR-TIMEZONE:Europe/Warsaw
BEGIN:VEVENT
UID:33836@night4u.pl
DTSTART;TZID=Europe/Warsaw:20191030T220000
DTEND;TZID=Europe/Warsaw:20191031T040000
DTSTAMP:20191030T091601Z
URL:https://night4u.pl/wydarzenia/creepy-halloween-meets-hi-5-sq-klub/
SUMMARY:Creepy Halloween meets HI 5! | SQ klub
DESCRIPTION:W środę\, 30 października zapraszamy na najmroczniejsze Hall
 oween w mieście! Dzięki szalonemu tańcu śmierci zatrzemy granicę mię
 dzy światami żywych i umarłych a wszystkie zagubione dusze będą mogł
 y przedostać się na drugą – imprezową stronę świata. Pojawią się
  Czarownice w towarzystwie czarnych kotów z okolicznych prowincji\, Czaro
 dzieje z magicznymi napojami\, wszelkiej maści Magowie\, najróżniejsze 
 Duchy i najstraszniejsze Demony oraz upiory maści wszelakiej!\n\nMuzyczni
 e zarządzi duet magów SimoBiskup\, który słynie z tego\, że jak zagra
  to i umarły zatańczy! Gramy rapy i r'n'b!\n\nOko cieszyć (a może i st
 raszyć) będą tancerki w strojach przygotowanych przez Maria Kompf Fashi
 on Styling!\n\n\nUWAGA!\n🎃 Przebierańcy &amp\; studenci do 24:00 wstę
 p FREE!\n🎃 Najlepsze przebrania nagradzamy na wejściu halloweenowym dr
 inkiem!\n\n\n##########\n\n30.10 (środa) CREEPY HALLOWEEN! \n\nSimo&amp\;
 Biskup (Hi 5/ TheRAPy)\n\nstart: 22:00\n\nbilety: 10 zł  / Przebierańcy 
 do 24:00 wstęp FREE! / z legitymacją studencką do 24:00 wstęp FREE!\n\
 n##########
ATTACH;FMTTYPE=image/jpeg:https://night4u.pl/wp-content/uploads/2019/10/85
 673_image_73472732_10157853230247940_8851555760262348800_o.jpg
CATEGORIES:wielkopolskie
LOCATION:SQ klub\, Poznan\, Poland
GEO:52.40174;16.926687
X-APPLE-STRUCTURED-LOCATION;VALUE=URI;X-ADDRESS=Poznan\, Poland;X-APPLE-RAD
 IUS=100;X-TITLE=SQ klub:geo:52.40174,16.926687
END:VEVENT
BEGIN:VTIMEZONE
TZID:Europe/Warsaw
X-LIC-LOCATION:Europe/Warsaw
BEGIN:STANDARD
DTSTART:20191027T020000
TZOFFSETFROM:+0200
TZOFFSETTO:+0100
TZNAME:CET
END:STANDARD
END:VTIMEZONE
END:VCALENDAR