BEGIN:VCALENDAR
VERSION:2.0
PRODID:-//wp-events-plugin.com//7.2.3.1//EN
TZID:Europe/Warsaw
X-WR-TIMEZONE:Europe/Warsaw
BEGIN:VEVENT
UID:15298@night4u.pl
DTSTART;TZID=Europe/Warsaw:20190511T200000
DTEND;TZID=Europe/Warsaw:20190512T040000
DTSTAMP:20190509T093841Z
URL:https://night4u.pl/wydarzenia/cuban-bachata-night-rumba-y-manana-satur
 day-party/
SUMMARY:Cuban & Bachata Night & Rumba y Manana Saturday Party
DESCRIPTION:Witajcie\,\n\nCzy słyszeliście już co dzieje się w sobotę 
 11 maja w naszym ulubionym klubie Forty Kleparz?\nTak\, macie rację: bawi
 my się na jedynej takiej niepowtarzalnej imprezie z cyklu: "Cuban Night".
 \n\nDodatkowo czeka nas nie lada gratka\, ze względu na festiwal Rumba y 
 Manana // Afro-Cuban Festival in Cracow\n_________________________________
 ________________\nW ramach festiwalu zapraszamy na Koncert & Orisha show o
  21:00. \nJest to widowisko muzyczno-taneczne opowiadające historię wier
 zeń afro-kubańskich oraz tradycyjnych tańców. Na koniec koncertu zapra
 szamy do wspólnego tańczenia rumby 'rumba abierta' .  Pokaz oraz muzyka 
 w wykonaniu kubańskich artystów oraz muzyków. \n\nPO KONCERCIE zaprasza
 my do wspólnej zabawy\n- w rytmie najlepszej salsy kubańskiej\n- z naszy
 mi najlepszymi kubańskimi artystami\n- z najlepszymi afro-rumbowymi anima
 cjami\n- z najlepszymi drinkami\n#rumiswaiting \n_________________________
 ____________________________\nJedyne słówko\, jakie potrzebujecie znać\
 , wybierając się na imprezę brzmi: "ZUEIRA"\, czyli tłumacząc na nasz
 e "PARTY HARD"!\nMyślę\, że już wiecie co to oznacza... :)\n\nTego wie
 czoru\, trzy specjalnie przygotowane dla Nas parkiety opanują gorące\, l
 atynoskie rytmy Salsy\, Rumby\, Afro\, Bachaty\, Reggaetonu i nie tylko \;
 )\nDo rozpalenia parkietu zachęcą Was najlepsi DJe- dbając o niesamowit
 ą oprawę muzyczną imprezy.\nDodatkowo najlepsi instruktorzy salsy z Kra
 kowa poprowadzą animacje taneczne dla wszystkich uczestników imprezy.\n\
 nKlub Forty Kleparz zamieniony w tętniącą różnorodnymi rytmami Hawań
 ską ulicę??\nOczywiste!!! A to za sprawą krakowskiej Szkoły Salsy Kuba
 ńskiej Latin Project.\n\nMnóstwo tanecznych niespodzianek\, niesamowita 
 energia\, radość i wolność płynąca z SALSY!\n\nZjawiajcie się tłum
 nie i nie przegapcie największej imprezy Salsowej w Krakowie.\n\nWstęp: 
 Rzecz jasna WOLNY!\nGdzie? Klub Forty Kleparz ul. Kamienna 2-4\nData: 11.0
 5.2019\nGodzina: 20:00\nKlub zastrzega sobie prawo do selekcji gości!
ATTACH;FMTTYPE=image/jpeg:https://night4u.pl/wp-content/uploads/2019/05/37
 797_image_59648900_2298413560180128_5695349096622063616_o.jpg
CATEGORIES:małopolskie
LOCATION:Klub Forty Kleparz\, ul. Kamienna 2  i 4\, Kraków\, 30-001\, Pola
 nd
GEO:50.07478;19.937665
X-APPLE-STRUCTURED-LOCATION;VALUE=URI;X-ADDRESS=ul. Kamienna 2  i 4\, Krak
 ów\, 30-001\, Poland;X-APPLE-RADIUS=100;X-TITLE=Klub Forty Kleparz:geo:50
 .07478,19.937665
END:VEVENT
BEGIN:VTIMEZONE
TZID:Europe/Warsaw
X-LIC-LOCATION:Europe/Warsaw
BEGIN:DAYLIGHT
DTSTART:20190331T030000
TZOFFSETFROM:+0100
TZOFFSETTO:+0200
TZNAME:CEST
END:DAYLIGHT
END:VTIMEZONE
END:VCALENDAR