BEGIN:VCALENDAR
VERSION:2.0
PRODID:-//wp-events-plugin.com//7.2.3.1//EN
TZID:Europe/Warsaw
X-WR-TIMEZONE:Europe/Warsaw
BEGIN:VEVENT
UID:34117@night4u.pl
DTSTART;TZID=Europe/Warsaw:20191102T220000
DTEND;TZID=Europe/Warsaw:20191103T040000
DTSTAMP:20191102T053839Z
URL:https://night4u.pl/wydarzenia/cuban-night-dj-libu-i-dj-ristoff-2-11-20
 19/
SUMMARY:Cuban night // DJ Libu i DJ Ristoff // 2.11.2019
DESCRIPTION:Już w najbliższą sobotę Choice Club zamieni się w stolicę
  Kuby. Zwiewne sukienki\, słomiane kapelusze i kwiatowe naszyjniki to tot
 alny must have!\n\nDJ LIBU:\n\nSwoją przygodę z muzyką rozpoczął w po
 łowie 2013 roku. Świetnie odnajduje się w gatunkach R’n’B\, Reggaet
 on\, Moombahton\, Trap\, Twerk\, Future House i Deep House. \n\nStart: 22:
 00\nWstęp: 18+ // 10 PLN / Lista FB: free\n\nRezerwacje:\nDominika: + 48 
 505 725 060 / d.pisanko@choiceclub.pl
ATTACH;FMTTYPE=image/jpeg:https://night4u.pl/wp-content/uploads/2019/10/87
 265_image_73361274_1701354923331093_2067020180193542144_o.jpg
CATEGORIES:małopolskie
LOCATION:Choice Club\, Floriańska 15\, Kraków\, 31-019\, Poland
GEO:50.06271;19.93987
X-APPLE-STRUCTURED-LOCATION;VALUE=URI;X-ADDRESS=Floriańska 15\, Kraków\, 
 31-019\, Poland;X-APPLE-RADIUS=100;X-TITLE=Choice Club:geo:50.06271,19.939
 87
END:VEVENT
BEGIN:VTIMEZONE
TZID:Europe/Warsaw
X-LIC-LOCATION:Europe/Warsaw
BEGIN:STANDARD
DTSTART:20191027T020000
TZOFFSETFROM:+0200
TZOFFSETTO:+0100
TZNAME:CET
END:STANDARD
END:VTIMEZONE
END:VCALENDAR