BEGIN:VCALENDAR
VERSION:2.0
PRODID:-//wp-events-plugin.com//7.2.3.1//EN
TZID:Europe/Warsaw
X-WR-TIMEZONE:Europe/Warsaw
BEGIN:VEVENT
UID:20347@night4u.pl
DTSTART;TZID=Europe/Warsaw:20190713T220000
DTEND;TZID=Europe/Warsaw:20190714T050000
DTSTAMP:20190628T224322Z
URL:https://night4u.pl/wydarzenia/cuban-night-dj-nesty-dj-younger-13-07-20
 19/
SUMMARY:Cuban night // DJ Nesty / DJ Younger // 13.07.2019
DESCRIPTION:Havana\, ooh na-na \nHalf of my heart is in Havana ?❤\n\nW so
 botę Choice Club zamieni się w stolicę Kuby. Zwiewne sukienki\, słomia
 ne kapelusze i kwiatowe naszyjniki to totalny must have! ??\n\nNasi gości
 e zabawę mają we krwi\, dlatego tego dnia otworzymy dla Was dwa parkiety
  - jeden dla miłośników gorących latynoskich rytmów\, drugi dla wielb
 icieli muzyki House oraz RnB. Każdy znajdzie u nas coś dla siebie.\n\nMa
 in Stage rozgrzeje dla Was DJ Nesty\, za to parkiet latynoski DJ Younger.\
 n\nSzalony\, kubański wieczór to to\, czego Wam potrzeba!\n\n\nStart: 22
 :00\nWstęp: 21+ // 10 PLN / Lista FB: free\n\nRezerwacje:\nDominika: + 48
  505 725 060 / d.pisanko@choiceclub.pl\n\nKlub Choice zastrzega sobie praw
 o do selekcji gości.
ATTACH;FMTTYPE=image/jpeg:https://night4u.pl/wp-content/uploads/2019/06/48
 857_image_65524414_1589568797843040_8585741144845975552_o.jpg
CATEGORIES:małopolskie
LOCATION:Choice Club\, Floriańska 15\, Kraków\, 31-019\, Poland
GEO:50.06271;19.93987
X-APPLE-STRUCTURED-LOCATION;VALUE=URI;X-ADDRESS=Floriańska 15\, Kraków\, 
 31-019\, Poland;X-APPLE-RADIUS=100;X-TITLE=Choice Club:geo:50.06271,19.939
 87
END:VEVENT
BEGIN:VTIMEZONE
TZID:Europe/Warsaw
X-LIC-LOCATION:Europe/Warsaw
BEGIN:DAYLIGHT
DTSTART:20190331T030000
TZOFFSETFROM:+0100
TZOFFSETTO:+0200
TZNAME:CEST
END:DAYLIGHT
END:VTIMEZONE
END:VCALENDAR