BEGIN:VCALENDAR
VERSION:2.0
PRODID:-//wp-events-plugin.com//7.2.3.1//EN
TZID:Europe/Warsaw
X-WR-TIMEZONE:Europe/Warsaw
BEGIN:VEVENT
UID:50001@night4u.pl
DTSTART;TZID=Europe/Warsaw:20200319T220000
DTEND;TZID=Europe/Warsaw:20200320T060000
DTSTAMP:20200319T041146Z
URL:https://night4u.pl/wydarzenia/cuban-reggaeton-%e2%9c%aewith-fidel-alme
 ida-conga-alexis-vinent-2/
SUMMARY:CUBAN Reggaeton! ✮with Fidel Almeida (conga) &amp\; Alexis Vinent
DESCRIPTION:CUBAN Reggaeton w Teatro Cubano \n\nReggaeton – gatunek muzyc
 zny\, połączenie muzyki reggae z muzyką hip-hop i rap. Powstał w Porto
 ryko pod koniec lat 90. XX wieku. Oryginalnie śpiewany i rapowany w języ
 ku hiszpańskim.\n\nReggaeton  also known as reggaetón and reguetón is a
  music style which originated in Puerto Rico during the late 1990s. It has
  evolved from dancehall and influenced by American hip hop\, Latin America
 n\, and Caribbean music. Vocals include rapping and singing\, typically in
  Spanish.\n\nMuzyka: Fidel Almeida (conga show)\n&amp\; Dj ALEX\n\nwstęp 
 free! // free entrance!
ATTACH;FMTTYPE=image/jpeg:https://night4u.pl/wp-content/uploads/2020/03/17
 4477_image_89254747_1629952833822806_8181040695964860416_o.jpg
CATEGORIES:małopolskie
LOCATION:Teatro Cubano Krakow - Resto & Rum Bar\, Jagiellońska 10\, Krakó
 w\, 31-010\, Poland
GEO:50.062064;19.934683
X-APPLE-STRUCTURED-LOCATION;VALUE=URI;X-ADDRESS=Jagiellońska 10\, Kraków\
 , 31-010\, Poland;X-APPLE-RADIUS=100;X-TITLE=Teatro Cubano Krakow - Resto 
 & Rum Bar:geo:50.062064,19.934683
END:VEVENT
BEGIN:VTIMEZONE
TZID:Europe/Warsaw
X-LIC-LOCATION:Europe/Warsaw
BEGIN:STANDARD
DTSTART:20191027T020000
TZOFFSETFROM:+0200
TZOFFSETTO:+0100
TZNAME:CET
END:STANDARD
END:VTIMEZONE
END:VCALENDAR