BEGIN:VCALENDAR
VERSION:2.0
PRODID:-//wp-events-plugin.com//7.2.3.1//EN
TZID:Europe/Warsaw
X-WR-TIMEZONE:Europe/Warsaw
BEGIN:VEVENT
UID:480@night4u.pl
DTSTART;TZID=Europe/Warsaw:20181222T230000
DTEND;TZID=Europe/Warsaw:20181223T060000
DTSTAMP:20181217T153203Z
URL:https://night4u.pl/wydarzenia/cykl-prawdziwe-techno-22-12/
SUMMARY:Cykl Prawdziwe Techno // 22.12
DESCRIPTION:Cykl Prawdziwe Techno\n/////////////////////////////////////\n\
 nNazwa tłumaczy wszystko. Będzie kilka edycji\, będzie tylko fu**** pro
 per techno\, będą najfajniejsi polscy DJe i producenci. \n\nNa drugą ed
 ycję zaprosiliśmy utalentowaną i w ostatnim czasie rozchwytywaną VTSS.
  Sprawdźcie jej najnowsze wydawnictwo - https://yakrecords.pl/produkt/sel
 f-will/ \n\nWpadajcie\, potupiemy w grupce\, będą stroboskopy i dużo dy
 mu. \n\n/////////////\nLine Up:\n- VTSS\n- FM\n- Steve Moob\n/////////////
 /\n\n\nTax: free till 00:00 // later - 15pln \nStart: 23:00\nEnd: up to yo
 u
ATTACH;FMTTYPE=image/jpeg:https://night4u.pl/wp-content/uploads/2018/12/46
 47_image_48270433_2251921185085280_7205199305697656832_o.jpg
CATEGORIES:łódzkie
LOCATION:SODA Underground Stage\, Plac Komuny Paryskiej 6\, Łódź\, 90-00
 7\, Poland
GEO:51.76518;19.45941
X-APPLE-STRUCTURED-LOCATION;VALUE=URI;X-ADDRESS=Plac Komuny Paryskiej 6\, 
 Łódź\, 90-007\, Poland;X-APPLE-RADIUS=100;X-TITLE=SODA Underground Stag
 e:geo:51.76518,19.45941
END:VEVENT
BEGIN:VTIMEZONE
TZID:Europe/Warsaw
X-LIC-LOCATION:Europe/Warsaw
BEGIN:STANDARD
DTSTART:20181028T020000
TZOFFSETFROM:+0200
TZOFFSETTO:+0100
TZNAME:CET
END:STANDARD
END:VTIMEZONE
END:VCALENDAR