BEGIN:VCALENDAR
VERSION:2.0
PRODID:-//wp-events-plugin.com//7.2.3.1//EN
TZID:Europe/Warsaw
X-WR-TIMEZONE:Europe/Warsaw
BEGIN:VEVENT
UID:6087@night4u.pl
DTSTART;TZID=Europe/Warsaw:20190209T230000
DTEND;TZID=Europe/Warsaw:20190210T060000
DTSTAMP:20190201T053555Z
URL:https://night4u.pl/wydarzenia/cykl-prawdziwe-techno-michal-wolski-x-fm
 -x-g-sound-x-bordel/
SUMMARY:Cykl Prawdziwe Techno // Michał Wolski x FM x G-Sound x Bordel
DESCRIPTION:Cykl Prawdziwe Techno\n/////////////////////////////////////\n\
 nNazwa tłumaczy wszystko. Będzie kilka edycji\, będzie tylko fu**** pro
 per techno\, będą najfajniejsi polscy DJe i producenci. \n\nOstatnia edy
 cja cyklu z VTSS była totalnym sztosem\, nie ma co zwalniać ani obniża
 ć poprzeczki. Pan Michał Wolski odwiedzi nas z najprawdziwszym techno te
 matem już 9 lutego. Trzymajcie się poręczy\, będą turbulencje!\n\nMic
 hał Wolski -  Musician\, producer focused on deep\, detailed techno music
 \, journalist and radio host. In his works he is looking for a balance bet
 ween the corporeal and the contemplative aspects of music. Sound induced b
 y him can be described as something between techno\, deep techno and dub t
 echno\, under a deep impact of broadly although not always explicitly unde
 rstood ambient. \n\nRelated to Nonplus Rec.\, Eerie Rec.\, Technosoul\, Re
 cognition Rec.\, Blank Slate Rec.\, International Day Off Rec.\, Lost In E
 ther Rec.\, Silent Season Rec. Founder of Minicromusic Rec.\n\nźródło -
  residentadvisor.net\n\nWpadajcie\, potupiemy w grupce\, będą stroboskop
 y i dużo dymu. \n\n/////////////\nLine Up:\n- Michał Wolski\n- G-Sound\n
 - FM\n- Bordel\n//////////////\n\n\nTax: free till 00:00 // later - 15pln 
 \nStart: 23:00\nEnd: up to you
ATTACH;FMTTYPE=image/jpeg:https://night4u.pl/wp-content/uploads/2019/02/18
 207_image_50649977_2282613032016095_4797467637724479488_o.jpg
CATEGORIES:łódzkie
LOCATION:SODA Underground Stage\, Plac Komuny Paryskiej 6\, Łódź\, 90-00
 7\, Poland
GEO:51.76518;19.45941
X-APPLE-STRUCTURED-LOCATION;VALUE=URI;X-ADDRESS=Plac Komuny Paryskiej 6\, 
 Łódź\, 90-007\, Poland;X-APPLE-RADIUS=100;X-TITLE=SODA Underground Stag
 e:geo:51.76518,19.45941
END:VEVENT
BEGIN:VTIMEZONE
TZID:Europe/Warsaw
X-LIC-LOCATION:Europe/Warsaw
BEGIN:STANDARD
DTSTART:20181028T020000
TZOFFSETFROM:+0200
TZOFFSETTO:+0100
TZNAME:CET
END:STANDARD
END:VTIMEZONE
END:VCALENDAR