BEGIN:VCALENDAR
VERSION:2.0
PRODID:-//wp-events-plugin.com//7.2.3.1//EN
TZID:Europe/Warsaw
X-WR-TIMEZONE:Europe/Warsaw
BEGIN:VEVENT
UID:43723@night4u.pl
DTSTART;TZID=Europe/Warsaw:20200121T203000
DTEND;TZID=Europe/Warsaw:20200121T223000
DTSTAMP:20200331T191257Z
URL:https://night4u.pl/wydarzenia/czarny-humor-w-amore-del-tropico-vol-4/
SUMMARY:Czarny Humor w Amore del Tropico vol. 4
DESCRIPTION:Wszystkich fanów niebezpiecznie mrocznego poczucia humoru zapr
 aszamy na najciemniejszy panel komediowy stand-up w piwnicy Amore del Trop
 ico\, która znajduje się poniżej poprawności politycznej.\nRaczmy się
  żartami\, których nie wypada mówić\, a jakimś cudem najłatwiej je z
 apamiętać.\nImpreza dla ludzi o mocnych nerwach i z ogromnym dystansem.\
 nZostań StereoTypem lub StereoTypiarą i wraz z uczestnictwem wygraj piwo
  na barze! Tabu nie wchodzi w grę.\n*Udział w imprezie na odpowiedzialno
 ść uczestnika\n\nBilet? Poratuj kierowniku jakimś pięćzłotym dla kom
 ików \;)
ATTACH;FMTTYPE=image/jpeg:https://night4u.pl/wp-content/uploads/2020/01/14
 0218_image_80988595_561331451264925_867004621179060224_o.jpg
CATEGORIES:wielkopolskie
LOCATION:Amore del Tropico\, Ratajczaka 26/2\, Poznan\, 61-815\, Poland
GEO:52.405425;16.925737
X-APPLE-STRUCTURED-LOCATION;VALUE=URI;X-ADDRESS=Ratajczaka 26/2\, Poznan\, 
 61-815\, Poland;X-APPLE-RADIUS=100;X-TITLE=Amore del Tropico:geo:52.405425
 ,16.925737
END:VEVENT
BEGIN:VTIMEZONE
TZID:Europe/Warsaw
X-LIC-LOCATION:Europe/Warsaw
BEGIN:STANDARD
DTSTART:20191027T020000
TZOFFSETFROM:+0200
TZOFFSETTO:+0100
TZNAME:CET
END:STANDARD
END:VTIMEZONE
END:VCALENDAR