BEGIN:VCALENDAR
VERSION:2.0
PRODID:-//wp-events-plugin.com//7.2.3.1//EN
TZID:Europe/Warsaw
X-WR-TIMEZONE:Europe/Warsaw
BEGIN:VEVENT
UID:5467@night4u.pl
DTSTART;TZID=Europe/Warsaw:20190208T200000
DTEND;TZID=Europe/Warsaw:20190209T030000
DTSTAMP:20190130T185836Z
URL:https://night4u.pl/wydarzenia/czary-sa-grane-iluzjonista-michal-zaorsk
 i/
SUMMARY:CZARY Są Grane // Iluzjonista Michał Zaorski
DESCRIPTION:Kolejna odsłona najbardziej magicznego wieczoru ze wszystkich 
 możliwych! ?\n\nIluzjonista Michał Zaorski znów zagośći w naszych pro
 gach\, uzbrojony w nowe sztuczki i dostarczy jeszcze więcej emocji\, niż
  ostatnio. \n\nPrzybywajcie tłumnie i dajcie się zaczarować ?
ATTACH;FMTTYPE=image/jpeg:https://night4u.pl/wp-content/uploads/2019/01/16
 850_image_51168206_510841466106005_1924180812152963072_o.jpg
CATEGORIES:lubelskie
LOCATION:Co jest grane?\, Hugona Kołłątaja 3\, Lublin\, 20-006\, Poland
GEO:51.24737;22.55794
X-APPLE-STRUCTURED-LOCATION;VALUE=URI;X-ADDRESS=Hugona Kołłątaja 3\, Lub
 lin\, 20-006\, Poland;X-APPLE-RADIUS=100;X-TITLE=Co jest grane?:geo:51.247
 37,22.55794
END:VEVENT
BEGIN:VTIMEZONE
TZID:Europe/Warsaw
X-LIC-LOCATION:Europe/Warsaw
BEGIN:STANDARD
DTSTART:20181028T020000
TZOFFSETFROM:+0200
TZOFFSETTO:+0100
TZNAME:CET
END:STANDARD
END:VTIMEZONE
END:VCALENDAR