BEGIN:VCALENDAR
VERSION:2.0
PRODID:-//wp-events-plugin.com//7.2.3.1//EN
TZID:Europe/Warsaw
X-WR-TIMEZONE:Europe/Warsaw
BEGIN:VEVENT
UID:20958@night4u.pl
DTSTART;TZID=Europe/Warsaw:20190706T210000
DTEND;TZID=Europe/Warsaw:20190707T040000
DTSTAMP:20190704T024438Z
URL:https://night4u.pl/wydarzenia/czlowiek-nie-wielblad-napic-sie-musi-2/
SUMMARY:Człowiek nie wielbłąd napić się musi
DESCRIPTION:Człowiek nie wielbłąd napić się musi\, wiec jak lekarze po
 dają\, że w takie upały powinno pić się 3 litry dziennie ! \nTo przyn
 ajmniej w sobotę trzeba się napić :)\n\n\n⭐️ Państwo młodzi już 
 na samym wejściu przywitają gości poczęstunkiem w postaci wiejskiego s
 tołu oraz pyszną wódeczką weselną i szampanem!\n\nATRAKCJE przygotowa
 ne dla Państwa w WESELU to m.in:\n✔️DJ & WODZIREJ \n✔️NAJLEPSZE Z
 ABAWY WESELNE \n✔️WIELE INYCH!\n\n⭐️ ⭐ Imprezę poprowadzi DJ & 
 WODZIREJ⭐️ ⭐\n\n❤️ Kultowe oczepiny o godzinie 2.00 ❤️\n♥
 ♥♥♥♥♥♥♥♥♥♥♥♥♥♥♥♥♥♥♥♥♥♥♥\nGRA
 MY od 21.00 do ostatniego gościa!\n▬▬▬▬▬▬▬▬▬▬▬▬
 ▬▬▬▬▬▬▬▬▬▬▬▬▬▬▬\n\nRezerwacje miejsc i bilet
 ów www.dyskotekiweselne.pl\nTylko u nas Wesela bez koperty i krawatów!\n
 \nREZERWACJE BILETÓW & STOLIKÓW: +48 791 998 805\n\nNa imprezie obowiąz
 uje wygodny nieformalny strój taki jak dla Ciebie jest wygodny - jednak b
 ez elementów sportowych m.in dresów\, czapek itp. Prosimy zostaw\, to w 
 domu lub zabierz na działkę ✌️
ATTACH;FMTTYPE=image/jpeg:https://night4u.pl/wp-content/uploads/2019/07/50
 123_image_65504749_2289315351306380_4008184577230110720_o.jpg
CATEGORIES:lubuskie
LOCATION:Dyskoteka Wesele Gorzów Wielkopolski\, Obotrycka 9\, Gorzów Wiel
 kopolski\, 66-400\, Poland
GEO:52.73095;15.24143
X-APPLE-STRUCTURED-LOCATION;VALUE=URI;X-ADDRESS=Obotrycka 9\, Gorzów Wielk
 opolski\, 66-400\, Poland;X-APPLE-RADIUS=100;X-TITLE=Dyskoteka Wesele Gorz
 ów Wielkopolski:geo:52.73095,15.24143
END:VEVENT
BEGIN:VTIMEZONE
TZID:Europe/Warsaw
X-LIC-LOCATION:Europe/Warsaw
BEGIN:DAYLIGHT
DTSTART:20190331T030000
TZOFFSETFROM:+0100
TZOFFSETTO:+0200
TZNAME:CEST
END:DAYLIGHT
END:VTIMEZONE
END:VCALENDAR