BEGIN:VCALENDAR
VERSION:2.0
PRODID:-//wp-events-plugin.com//7.2.3.1//EN
TZID:Europe/Warsaw
X-WR-TIMEZONE:Europe/Warsaw
BEGIN:VEVENT
UID:42294@night4u.pl
DTSTART;TZID=Europe/Warsaw:20200116T210000
DTEND;TZID=Europe/Warsaw:20200117T040000
DTSTAMP:20200116T053930Z
URL:https://night4u.pl/wydarzenia/czterech-kroli-dj-em-16-01-2020/
SUMMARY:Czterech Króli // DJ eM // 16.01.2020
DESCRIPTION:#CzterechKroli #Impreza #ClubChoice #UJ\n[ENGLISH BELOW]\n\nO T
 rzech Królach wiedzą wszyscy\, ale czy ktoś wie kim był i czy w ogóle
  był Czwarty Król? Nie? Nikt? W takim razie zapraszamy wszystkich by si
 ę przekonali co się kryje pod tym mianem!\n\nJuż 16 stycznia o godzinie
  21 w Klubie Choice na ulicy Floriańskiej 15 na Starym Mieście w Krakowi
 e odbędzie się impreza Czterech Króli! Wydział Studiów Międzynarodow
 ych i Politycznych łączy swoje siły z Wydziałem Historycznym\, Wydzia
 łem Filozoficznym i Wydziałem Filologicznym by wspólnie świętować! \
 n\nPrzybywajcie licznie na tę imprezę\, ale nie przychodźcie z pustymi 
 rękoma. Mamy dla Was konkurs-zabawę! Łapcie za bloki rysunkowe\, kredki
 \, nożyczki i inne przybory plastyczne. Przynieście nam koronę godną p
 rawdziwego króla - najlepsza wygra 0\,5l butelkę wódki! Słyszeliśmy r
 ównież\, że jeżeli nasze grono będzie pokaźne to pojawią się takż
 e inne nagrody\, dlatego wyraźcie się twórczo!\n\nOprócz tego Klub na 
 tę okazję przygotował dla nas specjalne\npromocje:\n- Shot Wiśniówki 
 - 4zł \n- Piwo (Leżajsk) - 5zł/8zł\n- Wódka z softem - 10zlł12zł\n-
  Gin tonic - 12zł/14zł\n- Cuba libre - 12zł\n- Jagerbomba - 15zł\n\nCe
 ny pierwsze obowiązują do 23:30\, a po tej godzinie drugie\n\nTego wiecz
 oru zagra dla nas DJ eM!\n\nWstęp wolny\, ale miejcie przy sobie legityma
 cję studencką i pamiętajcie - Start 21:00\, 16 stycznia. Klub Choice na
  Floriańskiej 15 na Starym Mieście. Widzimy się na tej Królewskiej Zab
 awie!\n\n\n[English Version]\nAbout Three Kings knows everyone\, but does 
 anyone know who was or if there was Fourth King? No? Nobody? In that case 
 we invite you all to get to know what hides behind the title of Fourth Kin
 g!\n\n16th of January at 9 p.m. in Choice Club on Floriańska 15 street in
  Old Town in Cracow the party called Four Kings will take place! Faculty o
 f International and Political Studies together with Faculty of\nHistory\, 
 Faculty of Philosophy and Faculty of Filology will celebrate!\n\nCome in l
 arge numbers\, but don't come empty-handed. We have a contest for you! Gra
 b your drawing pad\, crayons\, scissors and other artistic stuff. Bring us
  a crown worthy of a true king - the best one will win 0\,5l bottle of vod
 ka! We heard also\, that if our celebrating bunch will be big then there m
 ight be other prizes\, so express yourself artistically!\n\nExcept that\, 
 club decided to prepare for us some special discounts:\n- Shot of cherry v
 odka - 4zł \n- Beer (Leżajsk) - 5zł/8zł\n- Vodka with soft - 10zlł12z
 ł\n- Gin tonic - 12zł/14zł\n- Cuba libre - 12zł\n- Jagerbomb - 15zł\n
 \nFirst prices are valid until 11:30 pm\, after this hour the second ones.
 \n\nDJ eM will play for us this evening!\n\nEntry is free\, don't forget t
 o take your student ID and remember - 16th January\, 9 p.m. Club Choice at
  Floriańska 15 in Old Town! We will see each other on this Royal Party!
ATTACH;FMTTYPE=image/jpeg:https://night4u.pl/wp-content/uploads/2020/01/13
 3177_image_81789146_1788185104648074_1394417701660655616_o.jpg
CATEGORIES:małopolskie
LOCATION:Choice Club\, Floriańska 15\, Kraków\, 31-019\, Poland
GEO:50.06271;19.93987
X-APPLE-STRUCTURED-LOCATION;VALUE=URI;X-ADDRESS=Floriańska 15\, Kraków\, 
 31-019\, Poland;X-APPLE-RADIUS=100;X-TITLE=Choice Club:geo:50.06271,19.939
 87
END:VEVENT
BEGIN:VTIMEZONE
TZID:Europe/Warsaw
X-LIC-LOCATION:Europe/Warsaw
BEGIN:STANDARD
DTSTART:20191027T020000
TZOFFSETFROM:+0200
TZOFFSETTO:+0100
TZNAME:CET
END:STANDARD
END:VTIMEZONE
END:VCALENDAR