BEGIN:VCALENDAR
VERSION:2.0
PRODID:-//wp-events-plugin.com//7.2.3.1//EN
TZID:Europe/Warsaw
X-WR-TIMEZONE:Europe/Warsaw
BEGIN:VEVENT
UID:41978@night4u.pl
DTSTART;TZID=Europe/Warsaw:20200110T180000
DTEND;TZID=Europe/Warsaw:20200112T040000
DTSTAMP:20200331T192829Z
URL:https://night4u.pl/wydarzenia/czula-jest-noc-i-browar-gwarek-graja-dla
 -wosp-20/
SUMMARY:Czuła jest noc i Browar Gwarek grają dla WOŚP '20
DESCRIPTION:Już od najbliższego piątku 10.01 w Czuła jest noc podłącz
 amy beczkę naszego Earl Grey IPA\, którą lejemy przez cały weekend\, a
  całkowity dochód z jej sprzedaży przeznaczymy na rzecz WOŚP. \n\nPRZY
 BYWAJCIE - WYPIJAJCIE - POMAGAJCIE
ATTACH;FMTTYPE=image/jpeg:https://night4u.pl/wp-content/uploads/2020/01/13
 2411_image_82842792_1763712607098731_5698917819308048384_o.jpg
CATEGORIES:dolnośląskie
LOCATION:Czuła jest noc\, ulica Kolejowa 8\, Wroclaw\, 53-508\, Poland
GEO:51.10137;17.0232
X-APPLE-STRUCTURED-LOCATION;VALUE=URI;X-ADDRESS=ulica Kolejowa 8\, Wroclaw\
 , 53-508\, Poland;X-APPLE-RADIUS=100;X-TITLE=Czuła jest noc:geo:51.10137,
 17.0232
END:VEVENT
BEGIN:VTIMEZONE
TZID:Europe/Warsaw
X-LIC-LOCATION:Europe/Warsaw
BEGIN:STANDARD
DTSTART:20191027T020000
TZOFFSETFROM:+0200
TZOFFSETTO:+0100
TZNAME:CET
END:STANDARD
END:VTIMEZONE
END:VCALENDAR