BEGIN:VCALENDAR
VERSION:2.0
PRODID:-//wp-events-plugin.com//7.2.3.1//EN
TZID:Europe/Warsaw
X-WR-TIMEZONE:Europe/Warsaw
BEGIN:VEVENT
UID:41957@night4u.pl
DTSTART;TZID=Europe/Warsaw:20200109T220000
DTEND;TZID=Europe/Warsaw:20200110T020000
DTSTAMP:20200331T202203Z
URL:https://night4u.pl/wydarzenia/czwartek-jam-session-w-liverpool-u-13/
SUMMARY:Czwartek!!! Jam Session w LIVERPOOL-u !
DESCRIPTION:Czwartek !!!  Jam Session w LIVERPOOL-u !!!\nPo Karnawałowym K
 oncercie podopiecznych LŚiM\nok. godz. 22\nGOŚCIE SPECJALNI : \nJACEK KR
 ZAKLEWSKI\, ALEK MROŻEK\, \nROBERT FOKS\, ROMAN SONNENBERG\, HENIU BORSIA
 K\,\, ANDRZEJ WALUS\, KAZIMIERZ MARUT\, ANDRZEJ POLAK\, PIOTR SIEKANOWICZ\
 ,
ATTACH;FMTTYPE=image/jpeg:https://night4u.pl/wp-content/uploads/2020/01/13
 2346_image_81785316_2951031571596023_4820619491429842944_n.jpg
CATEGORIES:dolnośląskie
LOCATION:Klub Muzyczny Liverpool\, Świdnicka 37\, Wroclaw\, 50-029\, Polan
 d
GEO:51.10401;17.03035
X-APPLE-STRUCTURED-LOCATION;VALUE=URI;X-ADDRESS=Świdnicka 37\, Wroclaw\, 5
 0-029\, Poland;X-APPLE-RADIUS=100;X-TITLE=Klub Muzyczny Liverpool:geo:51.1
 0401,17.03035
END:VEVENT
BEGIN:VTIMEZONE
TZID:Europe/Warsaw
X-LIC-LOCATION:Europe/Warsaw
BEGIN:STANDARD
DTSTART:20191027T020000
TZOFFSETFROM:+0200
TZOFFSETTO:+0100
TZNAME:CET
END:STANDARD
END:VTIMEZONE
END:VCALENDAR