BEGIN:VCALENDAR
VERSION:2.0
PRODID:-//wp-events-plugin.com//7.2.3.1//EN
TZID:Europe/Warsaw
X-WR-TIMEZONE:Europe/Warsaw
BEGIN:VEVENT
UID:21038@night4u.pl
DTSTART;TZID=Europe/Warsaw:20190704T200000
DTEND;TZID=Europe/Warsaw:20190705T040000
DTSTAMP:20190704T024756Z
URL:https://night4u.pl/wydarzenia/czwartek-klub-nieczynny/
SUMMARY:Czwartek - KLUB Nieczynny
DESCRIPTION:W okresie wakacyjnym czwartkowe imprezy się nie odbędą. \nZa
 praszamy do klubu w piątki i soboty\, a także CODZIENNIE do naszego ogr
 ódka letniego: Ogródek Bavitto
ATTACH;FMTTYPE=image/jpeg:https://night4u.pl/wp-content/uploads/2019/07/50
 257_image_65394864_2467092976676810_7206021044610531328_o.jpg
CATEGORIES:śląskie
LOCATION:Bavitto\, Katowice\, Poland
GEO:50.254238;19.01828
X-APPLE-STRUCTURED-LOCATION;VALUE=URI;X-ADDRESS=Katowice\, Poland;X-APPLE-R
 ADIUS=100;X-TITLE=Bavitto:geo:50.254238,19.01828
END:VEVENT
BEGIN:VTIMEZONE
TZID:Europe/Warsaw
X-LIC-LOCATION:Europe/Warsaw
BEGIN:DAYLIGHT
DTSTART:20190331T030000
TZOFFSETFROM:+0100
TZOFFSETTO:+0200
TZNAME:CEST
END:DAYLIGHT
END:VTIMEZONE
END:VCALENDAR