BEGIN:VCALENDAR
VERSION:2.0
PRODID:-//wp-events-plugin.com//7.2.3.1//EN
TZID:Europe/Warsaw
X-WR-TIMEZONE:Europe/Warsaw
BEGIN:VEVENT
UID:49274@night4u.pl
DTSTART;TZID=Europe/Warsaw:20200305T233000
DTEND;TZID=Europe/Warsaw:20200306T060000
DTSTAMP:20200305T104645Z
URL:https://night4u.pl/wydarzenia/czwartek-lekko-techno-e228-luzztro-lista
 -free/
SUMMARY:Czwartek Lekko Techno / E228 / Luzztro / lista free*
DESCRIPTION:Epizod 228 to po raz kolejny artysta który jeszcze u nas nie g
 rał. Mr. Lex to dobrze znany artysta z takich projektów jak NOVIKA &amp\
 ; Mr. Lex czy Rakieta. Bardzo się cieszymy że Maciek zagra z nami tej no
 cy bo to może być wspaniały przedsmak tego weekendu.\n\nOprócz tego pi
 erwszy raz w tym roku wystąpi na naszej scenie GiGi / PL\, który nie zwa
 lnia tempa. Jego set będzie na pewno bardzo melodyczny i porywający.\n\n
 Warm-up zagram jak zwykle ja\, Kalicky.\n\nmusic:\n#house #melodictechno #
 progressive #techno\n\nPrzekazujcie info znajomym i widzimy się na parkie
 cie.\n\nZapraszam Piotr Kalicki\n\nCzarować będą:\n\nMr. Lex\nGiGi / PL
 \nKalicky\n\n-------------------------------------------------------------
 --------------\nKoszt: 0zł* / 20zł\n* lista Facebook do 00:00 (osoby kt
 óre zaznaczyły "wezmę udział")\nlistę zamykamy o 21.00 w dniu imprezy
 .\nBramy otwieramy o 23:30\nStart setów DJ-skich o 00:00\nKoniec: To zale
 ży od Was!\n\nMiłość do techno.
ATTACH;FMTTYPE=image/jpeg:https://night4u.pl/wp-content/uploads/2020/03/17
 0630_image_88180789_1110128045998500_2985772139312840704_o.jpg
CATEGORIES:mazowieckie
LOCATION:Luzztro\, Aleje Jerozolimskie 6\, Warsaw\, 00-374\, Poland
GEO:52.232779;21.023655
X-APPLE-STRUCTURED-LOCATION;VALUE=URI;X-ADDRESS=Aleje Jerozolimskie 6\, War
 saw\, 00-374\, Poland;X-APPLE-RADIUS=100;X-TITLE=Luzztro:geo:52.232779,21.
 023655
END:VEVENT
BEGIN:VTIMEZONE
TZID:Europe/Warsaw
X-LIC-LOCATION:Europe/Warsaw
BEGIN:STANDARD
DTSTART:20191027T020000
TZOFFSETFROM:+0200
TZOFFSETTO:+0100
TZNAME:CET
END:STANDARD
END:VTIMEZONE
END:VCALENDAR