BEGIN:VCALENDAR
VERSION:2.0
PRODID:-//wp-events-plugin.com//7.2.3.1//EN
TZID:Europe/Warsaw
X-WR-TIMEZONE:Europe/Warsaw
BEGIN:VEVENT
UID:9414@night4u.pl
DTSTART;TZID=Europe/Warsaw:20190314T230000
DTEND;TZID=Europe/Warsaw:20190315T060000
DTSTAMP:20190314T205925Z
URL:https://night4u.pl/wydarzenia/czwartek-lekko-techno-ft-sv3n-tresor-ber
 lin-lista-fb-free/
SUMMARY:Czwartek Lekko Techno ft. SV3N [Tresor/Berlin] / lista FB free*
DESCRIPTION:Tym razem naszym gościem będzie żywa legenda europejskiej sc
 eny electro i techno\, człowiek który grał już wielkie imprezy kiedy w
 iększość z nas uczyła się siadać na nocnik.\n\nSV3N w swojej karierz
 e rezydował w takich miastach jak Berlin czy Manchester\, w którym od 19
 98r był związany ze Skam Records i gdzie prowadził cykl imprez Electro 
 „ilektro” na które zapraszał takich artystów jak  Freeform\, Gescom
  Djs \, Dj Vector\, Rob Hall\, Daz Quayle\, Made\, Kalkomania\, DIDJIT\, N
 MB\, Meam\, Quinoline Yellow\, Dave Wheels\, Solar X\, Bit stream\, NYX\, 
 Hipoptimist\, Radio IO IO IO\, Hutah\, Cen Reese\, Pendle Coven\, Dez Will
 iams\, Bitstream\, Satamile DJ\, Claro Intelecto\, Modeselektor\, Miles\, 
 ADJ\, Ben Milstein\, Ardisson i wiele innych. \n\nOd czasu przeprowadzki d
 o Berlina w 2010 roku\, SV3N zaangażował się w pracę w agencji muzyczn
 ej LittleBig\, założył i zarządzał przestrzenią dźwiękową oraz ga
 lerią Modular + i kontynłował granie\, na przykład w Berghain Kantine\
 , Suicide Circus\, Chalet\, Urban Spree i jako Warp Dj na Sacrum Profanum 
 2014 w Krakowie (Warp25).\n\nAktualnie SV3N jest związany z takimi miejsc
 ami w Berlinie jak OHM\, Tresor i Modular +.\n\nTańce do białego rana gw
 arantowane\, za wszystko inne zapłacicie przy barze.\n\nZapraszam Piotr K
 alicki\n\nCzarować będą:\n\nSv3n5ki [Transsmission / Skizze / Tresor Cl
 ub / Berlin]\nGarsija [Synesthezya]\nKalicky [Luzzztro / Lekko Techno]\n\n
 \n\n----------------------------------------------------------------------
 -----\nKoszt: 0zł* / 20zł\n* lista Facebook do 00:00 (osoby które zazna
 czyły "wezmę udział")\nlistę zamykamy o 21.00 w dniu imprezy.\nBramy o
 twieramy o 23:00\nStart setów DJ-skich o 00:00\nKoniec: To zależy od Was
 !\n\nAlbo miłość albo techno.
ATTACH;FMTTYPE=image/jpeg:https://night4u.pl/wp-content/uploads/2019/03/25
 426_image_54434667_839335659744408_3721491335513899008_o.jpg
CATEGORIES:mazowieckie
LOCATION:Luzztro\, Aleje Jerozolimskie 6\, Warsaw\, 00-374\, Poland
GEO:52.232779;21.023655
X-APPLE-STRUCTURED-LOCATION;VALUE=URI;X-ADDRESS=Aleje Jerozolimskie 6\, War
 saw\, 00-374\, Poland;X-APPLE-RADIUS=100;X-TITLE=Luzztro:geo:52.232779,21.
 023655
END:VEVENT
BEGIN:VTIMEZONE
TZID:Europe/Warsaw
X-LIC-LOCATION:Europe/Warsaw
BEGIN:STANDARD
DTSTART:20181028T020000
TZOFFSETFROM:+0200
TZOFFSETTO:+0100
TZNAME:CET
END:STANDARD
END:VTIMEZONE
END:VCALENDAR