BEGIN:VCALENDAR
VERSION:2.0
PRODID:-//wp-events-plugin.com//7.2.3.1//EN
TZID:Europe/Warsaw
X-WR-TIMEZONE:Europe/Warsaw
BEGIN:VEVENT
UID:27798@night4u.pl
DTSTART;TZID=Europe/Warsaw:20190919T233000
DTEND;TZID=Europe/Warsaw:20190920T060000
DTSTAMP:20190916T211011Z
URL:https://night4u.pl/wydarzenia/czwartek-lekko-techno-pres-duss-kalicky-
 lista-free/
SUMMARY:Czwartek Lekko Techno pres. DUSS\, Kalicky / lista free*
DESCRIPTION:Nie lubimy nudy\, a sezon jesienny rozpędza się na dobre\, wi
 ęc musimy porządnie rozgrzać parkiet tak aby dobrze wejść w weekendow
 e zawirowanie.Tym razem moim goście będzie członek duetu który robi ak
 tualnie największe zamieszanie na naszej rodzimej scenie house/techno. \n
 \nPrzekazujcie info znajomym i widzimy się na parkiecie.\n\nZapraszam Pio
 tr Kalicki.\n\nCzarować będą (A-Z):\n\nDUSS\nKalicky\n\n---------------
 ------------------------------------------------------------\nKoszt: 0zł*
  / 20zł\n* lista Facebook do 00:00 (osoby które zaznaczyły "wezmę udzi
 ał")\nlistę zamykamy o 21.00 w dniu imprezy.\nBramy otwieramy o 23:00\nS
 tart setów DJ-skich o 00:00\nKoniec: To zależy od Was!\n\nAlbo miłość
  albo techno.
ATTACH;FMTTYPE=image/jpeg:https://night4u.pl/wp-content/uploads/2019/09/64
 606_image_71116918_963697033974936_5026378738787418112_o.jpg
CATEGORIES:mazowieckie
LOCATION:Luzztro\, Aleje Jerozolimskie 6\, Warsaw\, 00-374\, Poland
GEO:52.232779;21.023655
X-APPLE-STRUCTURED-LOCATION;VALUE=URI;X-ADDRESS=Aleje Jerozolimskie 6\, War
 saw\, 00-374\, Poland;X-APPLE-RADIUS=100;X-TITLE=Luzztro:geo:52.232779,21.
 023655
END:VEVENT
BEGIN:VTIMEZONE
TZID:Europe/Warsaw
X-LIC-LOCATION:Europe/Warsaw
BEGIN:DAYLIGHT
DTSTART:20190331T030000
TZOFFSETFROM:+0100
TZOFFSETTO:+0200
TZNAME:CEST
END:DAYLIGHT
END:VTIMEZONE
END:VCALENDAR