BEGIN:VCALENDAR
VERSION:2.0
PRODID:-//wp-events-plugin.com//7.2.3.1//EN
TZID:Europe/Warsaw
X-WR-TIMEZONE:Europe/Warsaw
BEGIN:VEVENT
UID:19472@night4u.pl
DTSTART;TZID=Europe/Warsaw:20190620T230000
DTEND;TZID=Europe/Warsaw:20190621T060000
DTSTAMP:20190617T194801Z
URL:https://night4u.pl/wydarzenia/czwartek-lekko-techno-pres-justine-perry
 -de-hevner-lista/
SUMMARY:Czwartek Lekko Techno pres: Justine Perry (DE)\, Hevner / lista*
DESCRIPTION:Czas przedstawić naszych kolejnych gości\, a będą to gości
 e wyjątkowi i bardzo nietuzinkowi.\n\nProsto z Berlina przyjedzie do nas 
 pochodząca z Francji Justine Perry\, jest prężnie rozwijającą się ar
 tystką która perfekcyjnie lawiruje w różnych odmianach techno\, co ju
 ż może Wam powiedzieć jak magiczna i wyjątkowa będzie to noc. \n\nDru
 gim gościem będzie bardzo utalentowany artysta\, kryjący się pod pseud
 onimem Hevner\, przed tym DJ bardzo ciekawa kariera\, tym razem sprawdzimy
  jak poradzi sobie w roli zamykacza imprezy. \n\nTańce do białego rana g
 warantowane\, za wszystko inne zapłacicie przy barze.\n\nZapraszam Piotr 
 Kalicki\n\nCzarować będą:\n\nJustine Perry [DE / Berlin / Art Bei Ton]\
 nHevner [Berlin After Dark]\nKalicky [Lekko Techno]\n\n\n-----------------
 ----------------------------------------------------------\nKoszt: 0zł* /
  20zł\n* lista Facebook do 00:00 (osoby które zaznaczyły "wezmę udzia
 ł")\nlistę zamykamy o 21.00 w dniu imprezy.\nBramy otwieramy o 23:00\nSt
 art setów DJ-skich o 00:00\nKoniec: To zależy od Was!\n\nAlbo miłość 
 albo techno.
ATTACH;FMTTYPE=image/jpeg:https://night4u.pl/wp-content/uploads/2019/06/46
 938_image_64519218_901250323552941_8846002797045350400_o.jpg
CATEGORIES:mazowieckie
LOCATION:Luzztro\, Aleje Jerozolimskie 6\, Warsaw\, 00-374\, Poland
GEO:52.232779;21.023655
X-APPLE-STRUCTURED-LOCATION;VALUE=URI;X-ADDRESS=Aleje Jerozolimskie 6\, War
 saw\, 00-374\, Poland;X-APPLE-RADIUS=100;X-TITLE=Luzztro:geo:52.232779,21.
 023655
END:VEVENT
BEGIN:VTIMEZONE
TZID:Europe/Warsaw
X-LIC-LOCATION:Europe/Warsaw
BEGIN:DAYLIGHT
DTSTART:20190331T030000
TZOFFSETFROM:+0100
TZOFFSETTO:+0200
TZNAME:CEST
END:DAYLIGHT
END:VTIMEZONE
END:VCALENDAR