BEGIN:VCALENDAR
VERSION:2.0
PRODID:-//wp-events-plugin.com//7.2.3.1//EN
TZID:Europe/Warsaw
X-WR-TIMEZONE:Europe/Warsaw
BEGIN:VEVENT
UID:21917@night4u.pl
DTSTART;TZID=Europe/Warsaw:20190711T230000
DTEND;TZID=Europe/Warsaw:20190712T060000
DTSTAMP:20190709T224701Z
URL:https://night4u.pl/wydarzenia/czwartek-lekko-techno-pres-matush-tomazz
 o-lone-lista-fb/
SUMMARY:Czwartek Lekko Techno pres: Matush\, Tomazzo\, Lone / lista FB*
DESCRIPTION:Tym razem inaczej\, tym razem w innym stylu\, będzie wyjątkow
 o melodyjnie i będzie wyjątkowo klasycznie. Tym razem tak jak "barowa" n
 a to zasługuje bo zagrają housowi wymiatacze. To nie znaczy że będzie 
 tylko lekko\, to znaczy że będzie też lżej ale z wyraźnym pazurem.\n\
 nZabierzcie ze sobą kapcie na zmianę bo poczujecie się jak za młodych 
 lat\, nie schodząc z parkietu jak na balu w podstawówce.\n\nTańce do bi
 ałego rana gwarantowane\, za wszystko inne zapłacicie przy barze.\n\nZap
 raszam Piotr Kalicki.\n\nCzarować będą:\n\nMATUSH [Groove Tom Records]\
 nTomazzo [In House We Trust]\nLone [Gdynia]\n-----------------------------
 ----------------------------------------------\nKoszt: 0zł* / 20zł\n* li
 sta Facebook do 00:00 (osoby które zaznaczyły "wezmę udział")\nlistę 
 zamykamy o 21.00 w dniu imprezy.\nBramy otwieramy o 23:00\nStart setów DJ
 -skich o 00:00\nKoniec: To zależy od Was!\n\nAlbo miłość albo techno.
ATTACH;FMTTYPE=image/jpeg:https://night4u.pl/wp-content/uploads/2019/07/51
 930_image_66495540_916076348737005_8203539568612343808_o.jpg
CATEGORIES:mazowieckie
LOCATION:Luzztro\, Aleje Jerozolimskie 6\, Warsaw\, 00-374\, Poland
GEO:52.232779;21.023655
X-APPLE-STRUCTURED-LOCATION;VALUE=URI;X-ADDRESS=Aleje Jerozolimskie 6\, War
 saw\, 00-374\, Poland;X-APPLE-RADIUS=100;X-TITLE=Luzztro:geo:52.232779,21.
 023655
END:VEVENT
BEGIN:VTIMEZONE
TZID:Europe/Warsaw
X-LIC-LOCATION:Europe/Warsaw
BEGIN:DAYLIGHT
DTSTART:20190331T030000
TZOFFSETFROM:+0100
TZOFFSETTO:+0200
TZNAME:CEST
END:DAYLIGHT
END:VTIMEZONE
END:VCALENDAR