BEGIN:VCALENDAR
VERSION:2.0
PRODID:-//wp-events-plugin.com//7.2.3.1//EN
TZID:Europe/Warsaw
X-WR-TIMEZONE:Europe/Warsaw
BEGIN:VEVENT
UID:43069@night4u.pl
DTSTART;TZID=Europe/Warsaw:20200116T233000
DTEND;TZID=Europe/Warsaw:20200117T060000
DTSTAMP:20200116T104639Z
URL:https://night4u.pl/wydarzenia/czwartek-lekko-techno-w-luzztrze-lista-f
 ree-6/
SUMMARY:Czwartek Lekko Techno w Luzztrze / lista free*
DESCRIPTION:Wracamy do ulubionej przez Was i przez nas formy 2h setów na L
 ekko Techno. Tym razem moimi gośćmi są postaci nietuzinkowe i bardzo ch
 aryzmatyczne.\n\nPierwszym z moich gości jest Eltron\, wcześniej znany j
 ako Eltron John\, miłośnik i kolekcjoner winylu\, gra głęboką\, czase
 m surową\, ale zawsze przepojoną uczuciem muzykę\, której korzenie le
 żą w soulu\, disco\, psychodelii oraz dubie\, a której owoce można zna
 leźć pośród tego\, co zwyczajowo nazywa się house i techno.\n\nDrugim
  i zdecydowanie ciekawym artystą jest Tobiasz dj.\, który jest znany sze
 rszemu gronu klubowiczów jako Tobiasz Majewski. To dopiero stawiające sw
 e pierwsze kroki DJ\, o którym jeszcze zapewne usłyszymy. \n\n#techno #m
 elodictechno #electronica #progressive #house\n\nPrzekazujcie info znajomy
 m i widzimy się na parkiecie.\n\nZapraszam Piotr Kalicki\n\nCzarować bę
 dą:\n\nEltron\nTobiasz dj.\nKalicky\n\n----------------------------------
 -----------------------------------------\nKoszt: 0zł* / 20zł\n* lista F
 acebook do 00:00 (osoby które zaznaczyły "wezmę udział")\nlistę zamyk
 amy o 21.00 w dniu imprezy.\nBramy otwieramy o 23:30\nStart setów DJ-skic
 h o 00:00\nKoniec: To zależy od Was!\n\nMiłość do techno.
ATTACH;FMTTYPE=image/jpeg:https://night4u.pl/wp-content/uploads/2020/01/13
 7564_image_82135806_1073051203039518_57598230153658368_o.jpg
CATEGORIES:mazowieckie
LOCATION:Luzztro\, Aleje Jerozolimskie 6\, Warsaw\, 00-374\, Poland
GEO:52.232779;21.023655
X-APPLE-STRUCTURED-LOCATION;VALUE=URI;X-ADDRESS=Aleje Jerozolimskie 6\, War
 saw\, 00-374\, Poland;X-APPLE-RADIUS=100;X-TITLE=Luzztro:geo:52.232779,21.
 023655
END:VEVENT
BEGIN:VTIMEZONE
TZID:Europe/Warsaw
X-LIC-LOCATION:Europe/Warsaw
BEGIN:STANDARD
DTSTART:20191027T020000
TZOFFSETFROM:+0200
TZOFFSETTO:+0100
TZNAME:CET
END:STANDARD
END:VTIMEZONE
END:VCALENDAR