BEGIN:VCALENDAR
VERSION:2.0
PRODID:-//wp-events-plugin.com//7.2.3.1//EN
TZID:Europe/Warsaw
X-WR-TIMEZONE:Europe/Warsaw
BEGIN:VEVENT
UID:9443@night4u.pl
DTSTART;TZID=Europe/Warsaw:20200116T170000
DTEND;TZID=Europe/Warsaw:20200116T220000
DTSTAMP:20190314T210407Z
URL:https://night4u.pl/wydarzenia/czwartkowe-fajfy-4/
SUMMARY:Czwartkowe Fajfy
DESCRIPTION:Czwartkowe  Fajfy- zawsze o piątej w każdy czwartej w Klub Ko
 smos Poznań\n\nPrzypomnimy Wam niesamowity klimat domowych prywatek oraz 
 potańcówek z lat gdzie muzykę puszczało się z płyt vinylowych oraz s
 tarych adapterów.\n\nImpreza dedykowana jest naszym klubowiczom w wieku 4
 5+ \n\nPo raz kolejny zabierzemy Was w muzyczną podróż po największych
  przebojach muzyki tanecznej polskiej jak i zagranicznej.\n\n\n\nKażdy cz
 wartek od godz\, 17:00\nKlub Kosmos Poznań III piętro\n(Galeria MM) ul. 
 Święty Marcin 24\, Poznań\n\nUwaga! W klubie prowadzona jest selekcja\n
 *WSTĘP WOLNY\n\nRezerwacje loży: tel. 612225051\n\n*Nie dotyczy imprez s
 pecjalnych
ATTACH;FMTTYPE=image/jpeg:https://night4u.pl/wp-content/uploads/2019/03/25
 488_image_53496271_2125443010872224_1632583503763734528_o.jpg
CATEGORIES:wielkopolskie
LOCATION:Klub Kosmos Poznań\, Święty Marcin 24\, Poznan\, 61-805\, Polan
 d
GEO:52.40657;16.927998
X-APPLE-STRUCTURED-LOCATION;VALUE=URI;X-ADDRESS=Święty Marcin 24\, Poznan
 \, 61-805\, Poland;X-APPLE-RADIUS=100;X-TITLE=Klub Kosmos Poznań:geo:52.4
 0657,16.927998
END:VEVENT
BEGIN:VTIMEZONE
TZID:Europe/Warsaw
X-LIC-LOCATION:Europe/Warsaw
BEGIN:STANDARD
DTSTART:20191027T020000
TZOFFSETFROM:+0200
TZOFFSETTO:+0100
TZNAME:CET
END:STANDARD
END:VTIMEZONE
END:VCALENDAR