BEGIN:VCALENDAR
VERSION:2.0
PRODID:-//wp-events-plugin.com//7.2.3.1//EN
TZID:Europe/Warsaw
X-WR-TIMEZONE:Europe/Warsaw
BEGIN:VEVENT
UID:4462@night4u.pl
DTSTART;TZID=Europe/Warsaw:20190126T160000
DTEND;TZID=Europe/Warsaw:20190126T180000
DTSTAMP:20190120T192024Z
URL:https://night4u.pl/wydarzenia/czy-lowiectwo-jest-potrzebne/
SUMMARY:Czy łowiectwo jest potrzebne?
DESCRIPTION:Czy myśliwi są potrzebni naturze czy też las i żyjące w ni
 m zwierzęta poradzą sobie same? Czy łowiectwo to krwawa zabawa czy waż
 ny element gospodarki leśnej? Czy myśliwi to miłośnicy przyrody\, czy 
 nieczułe snoby\, uprawiające drogie i nietypowe hobby?\n\nViva! Akcja dl
 a zwierząt - Łódź oraz koalicja Niech Żyją zapraszają na dyskusję.
 \n26 stycznia 16.00 6 dzielnica \nWstęp wolny.\n\nLista gości wkrótce.
ATTACH;FMTTYPE=image/jpeg:https://night4u.pl/wp-content/uploads/2019/01/14
 786_image_49895443_2081090295287394_3441284383472877568_o.jpg
CATEGORIES:łódzkie
LOCATION:6 dzielnica\, Piotrkowska 102\, Łódź\, 90-005\, Poland
GEO:51.765029;19.457371
X-APPLE-STRUCTURED-LOCATION;VALUE=URI;X-ADDRESS=Piotrkowska 102\, Łódź\,
  90-005\, Poland;X-APPLE-RADIUS=100;X-TITLE=6 dzielnica:geo:51.765029,19.4
 57371
END:VEVENT
BEGIN:VTIMEZONE
TZID:Europe/Warsaw
X-LIC-LOCATION:Europe/Warsaw
BEGIN:STANDARD
DTSTART:20181028T020000
TZOFFSETFROM:+0200
TZOFFSETTO:+0100
TZNAME:CET
END:STANDARD
END:VTIMEZONE
END:VCALENDAR