BEGIN:VCALENDAR
VERSION:2.0
PRODID:-//wp-events-plugin.com//7.2.3.1//EN
TZID:Europe/Warsaw
X-WR-TIMEZONE:Europe/Warsaw
BEGIN:VEVENT
UID:1463@night4u.pl
DTSTART;TZID=Europe/Warsaw:20190123T210000
DTEND;TZID=Europe/Warsaw:20190124T050000
DTSTAMP:20181228T234515Z
URL:https://night4u.pl/wydarzenia/czy-warto-bylo-szalec-tak/
SUMMARY:Czy warto było szaleć tak?!
DESCRIPTION:Czy warto szaleć było tak?!\n\nTAK!\nTAK!\nTAK!\nTAK!\n\nKied
 y powiem sobie dość?\nRaczej wcale.\n\nJeśli liczyliście\, że postano
 wienia noworoczne miały sens\, dzisiaj już wiecie\, że nie.\nPrzynajmni
 ej SilenceClub jest stałą. \nWidzimy się na parkiecie albo przy barze.\
 nWiecie kiedy.\nBędzie grubo!\n__________________________________________
 ______\n\nStart 21:00\nKlub zastrzega sobie prawo do selekcji gości +18.\
 n________________________________________________\n\nW ofercie dla Was teg
 o wieczora mamy:\nWjazd na imprezę z listy facebook'a za darmo dla wszyst
 kich przez całą noc\nListę zamykamy o 20 w dniu imprezy!\n\nKliknij "we
 zmę udział" bo "zainteresowaną/ym" to można być co najwyżej kolejną
  kolejką przy barze. \n______________________________________\n\nZnajdź 
 nas również na:\nSnapchat: silence_club || Instagram: @silenceclub\n\n\n
 23 stycznia 2019 (Środa)\nSilenceClub\nRadziszewskiego 8\nLublin
ATTACH;FMTTYPE=image/jpeg:https://night4u.pl/wp-content/uploads/2018/12/68
 17_image_48428095_2650455178312808_2129155257316409344_o.jpg
CATEGORIES:lubelskie
LOCATION:SilenceClub\, Radziszewskiego 8\, Lublin\, 20-031\, Poland
GEO:51.246457;22.543797
X-APPLE-STRUCTURED-LOCATION;VALUE=URI;X-ADDRESS=Radziszewskiego 8\, Lublin\
 , 20-031\, Poland;X-APPLE-RADIUS=100;X-TITLE=SilenceClub:geo:51.246457,22.
 543797
END:VEVENT
BEGIN:VTIMEZONE
TZID:Europe/Warsaw
X-LIC-LOCATION:Europe/Warsaw
BEGIN:STANDARD
DTSTART:20181028T020000
TZOFFSETFROM:+0200
TZOFFSETTO:+0100
TZNAME:CET
END:STANDARD
END:VTIMEZONE
END:VCALENDAR