BEGIN:VCALENDAR
VERSION:2.0
PRODID:-//wp-events-plugin.com//7.2.3.1//EN
TZID:Europe/Warsaw
X-WR-TIMEZONE:Europe/Warsaw
BEGIN:VEVENT
UID:15275@night4u.pl
DTSTART;TZID=Europe/Warsaw:20190511T220000
DTEND;TZID=Europe/Warsaw:20190512T040000
DTSTAMP:20190509T093617Z
URL:https://night4u.pl/wydarzenia/d-bomb-non-stop-fafaq/
SUMMARY:D-Bomb & Non Stop & Fafaq
DESCRIPTION:Najlepsza Sobota w Mieście :)\nGoście wieczoru: \nSala Disco-
  koncert zespołu D-Bomb oraz formacji Non Stop\nSala Klubowa- FAFAQ\nSala
  Gold- Dj Rico L \nStart ⏩⏩⏩ 22:00⏪⏪⏪\nBohema Tu Się Dzieje :
 )
ATTACH;FMTTYPE=image/jpeg:https://night4u.pl/wp-content/uploads/2019/05/37
 740_image_59855977_3198230676861121_7568375886206992384_o.jpg
CATEGORIES:mazowieckie
LOCATION:Klub Bohema\, Kolejowa 3\, Siedlce\, 08-110\, Poland
GEO:52.15774;22.28255
X-APPLE-STRUCTURED-LOCATION;VALUE=URI;X-ADDRESS=Kolejowa 3\, Siedlce\, 08-1
 10\, Poland;X-APPLE-RADIUS=100;X-TITLE=Klub Bohema:geo:52.15774,22.28255
END:VEVENT
BEGIN:VTIMEZONE
TZID:Europe/Warsaw
X-LIC-LOCATION:Europe/Warsaw
BEGIN:DAYLIGHT
DTSTART:20190331T030000
TZOFFSETFROM:+0100
TZOFFSETTO:+0200
TZNAME:CEST
END:DAYLIGHT
END:VTIMEZONE
END:VCALENDAR