BEGIN:VCALENDAR
VERSION:2.0
PRODID:-//wp-events-plugin.com//7.2.3.1//EN
TZID:Europe/Warsaw
X-WR-TIMEZONE:Europe/Warsaw
BEGIN:VEVENT
UID:50106@night4u.pl
DTSTART;TZID=Europe/Warsaw:20200321T213000
DTEND;TZID=Europe/Warsaw:20200322T060000
DTSTAMP:20200318T183005Z
URL:https://night4u.pl/wydarzenia/daaz-fakto-klub-vavavoom-zakopane/
SUMMARY:Daaz &amp\; Fakto // Klub Vavavoom // Zakopane
DESCRIPTION:👉 21.03.2020 👈\nCZARNA NOC powraca🌙\n\nSprawdźcie co 
 Żubrówka Czarna dla Was przygotowała 😉\n\n➡️ Start --&gt\; 21:30
  ⬅️\n🔸 Door Selection 🔸\n\nMUSIC: Dj Daaz &amp\; FAKTO 🎶🎧\
 n\nPotrzebujesz lożę❓\nKliknij przycisk "ZAREZERWUJ TERAZ" na naszym p
 rofilu i zrób to online 🙂\n\nDAAZ\nPochodzi z Krakowa\, w branży od p
 onad dekady. Jak sam mówi: urodziłem się po to\, aby grać. Wielokrotny
 \, tytułowany finalista konkursów IDA oraz Red Bull 3style. Kilkaset zag
 ranych imprez klubowych w Polsce\, jak i poza granicami naszego kraju - Li
 twa\, Austria\, Włochy. Mial również okazje gościć na scenach festiwa
 lowych - Opener Festiwal\, Up To Date (Bydgoszcz)\, Granatos Live (Kowno -
  Litwa) Współpracuje z telewizją TVN\, dbając o warstwę muzyczną na 
 najważniejszych wydarzeniach stacji. To właśnie Daaz rozgrzewał wielot
 ysięczną publiczność podczas ostatniej trasy Dawida Podsiadło.\n\nhtt
 ps://www.facebook.com/djdaazPL\nhttps://www.instagram.com/djdaazpl\n\n\nFA
 KTO\nBardzo aktywny DJ oraz producent pochodzący z Lublina. Słynie ze sw
 oich autorskich imprez\, które charakteryzują się totalnym mashupem zar
 ówno brzmieniowym jak i towarzyskim. Nigdy nie stronił od mieszania wiel
 u gatunków jednocześnie\, dlatego też podczas jego występów można sp
 odziewać się dosłownie wszystkiego!\nFakto potrafi mieszać style jak m
 ało kto\, jednak najlepiej czuje się w klimatach House\, Future House\, 
 Nu-Disco. Swoją przygodę z klubami zaczął w wieku szesnastu lat. Przez
  ponad rok był rezydentem sieci klubów Czekolada. Był także ambasadore
 m marki Jagermeister oraz akcji Łowcy\, a w wieku dziewiętnastu lat zost
 ał managerem artystycznym lubelskiego klubu Cream\, jednego z najbardziej
  prestiżowych lokali w Polsce\, w którym współpracował z czołówką 
 polskiej sceny klubowej. Funkcję tę pełnił przez cały okres działaln
 ości klubu. Fakto zagrał tysiące imprez na mapie całego kraju. Często
  odwiedza także inne państwa – m in. Szwajcarię\, Francję czy Włoch
 y. Współpracuje ze szwajcarskim kolektywem DJ-skim Supremus Sounds\, z k
 tórymi tworzą różne projekty na mapie całej europy.\nFakto jest zało
 życielem oraz rezydentem marki WROTKI TAK BARDZO ODPIĘTE - lifestylowego
  projektu imprezowego\, który odwiedził najpopularniejsze kluby w całym
  kraju\, a także za granicą. \n\n\nZapraszamy 😉
ATTACH;FMTTYPE=image/jpeg:https://night4u.pl/wp-content/uploads/2020/03/17
 5023_image_89775096_2564867107095683_8122483622952304640_o.jpg
CATEGORIES:małopolskie
LOCATION:Klub Vavavoom\, ul.Kosciuszki 10\, Zakopane\, 34-500\, Poland
GEO:49.295395;19.953732
X-APPLE-STRUCTURED-LOCATION;VALUE=URI;X-ADDRESS=ul.Kosciuszki 10\, Zakopane
 \, 34-500\, Poland;X-APPLE-RADIUS=100;X-TITLE=Klub Vavavoom:geo:49.295395,
 19.953732
END:VEVENT
BEGIN:VTIMEZONE
TZID:Europe/Warsaw
X-LIC-LOCATION:Europe/Warsaw
BEGIN:STANDARD
DTSTART:20191027T020000
TZOFFSETFROM:+0200
TZOFFSETTO:+0100
TZNAME:CET
END:STANDARD
END:VTIMEZONE
END:VCALENDAR