BEGIN:VCALENDAR
VERSION:2.0
PRODID:-//wp-events-plugin.com//7.2.3.1//EN
TZID:Europe/Warsaw
X-WR-TIMEZONE:Europe/Warsaw
BEGIN:VEVENT
UID:46402@night4u.pl
DTSTART;TZID=Europe/Warsaw:20200229T220000
DTEND;TZID=Europe/Warsaw:20200301T040000
DTSTAMP:20200229T215523Z
URL:https://night4u.pl/wydarzenia/daj-sie-zaskoczyc-sobota-futurysta-dj-le
 e/
SUMMARY:Daj Się Zaskoczyć // Sobota // Futurysta // DJ LEE
DESCRIPTION:Klub Futurysta zaprasza na wyjątkową sobotnią noc !!!\n\nNaj
 większe klubowe hity zaserwuje formacja #DR3AM_team\n\nSprawdź co przygo
 towaliśmy dla Ciebie w ten weekend !!!\n\nWejście 18+\nZ zaproszeniem : 
 FREE\nReszta świata : 10\,00 (ŻETON DO WYKORZYSTANIA NA BARZE NA KAŻDEG
 O DRINKA Z KARTY -50% !!!)
ATTACH;FMTTYPE=image/jpeg:https://night4u.pl/wp-content/uploads/2020/02/15
 2202_image_83622930_2614837135251774_2937155634962890752_o-11.jpg
CATEGORIES:łódzkie
LOCATION:Klub Futurysta\, Al. Politechniki 7\, Łódź\, 93-590\, Poland
GEO:51.747169;19.450204
X-APPLE-STRUCTURED-LOCATION;VALUE=URI;X-ADDRESS=Al. Politechniki 7\, Łód
 ź\, 93-590\, Poland;X-APPLE-RADIUS=100;X-TITLE=Klub Futurysta:geo:51.7471
 69,19.450204
END:VEVENT
BEGIN:VTIMEZONE
TZID:Europe/Warsaw
X-LIC-LOCATION:Europe/Warsaw
BEGIN:STANDARD
DTSTART:20191027T020000
TZOFFSETFROM:+0200
TZOFFSETTO:+0100
TZNAME:CET
END:STANDARD
END:VTIMEZONE
END:VCALENDAR