BEGIN:VCALENDAR
VERSION:2.0
PRODID:-//wp-events-plugin.com//7.2.3.1//EN
TZID:Europe/Warsaw
X-WR-TIMEZONE:Europe/Warsaw
BEGIN:VEVENT
UID:28618@night4u.pl
DTSTART;TZID=Europe/Warsaw:20191006T210000
DTEND;TZID=Europe/Warsaw:20191007T050000
DTSTAMP:20191011T070006Z
URL:https://night4u.pl/wydarzenia/daj-to-glosniej-lublin-koncert-disco-pon
 ad-wszystko/
SUMMARY:Daj To Głośniej /Lublin/ koncert /Disco Ponad Wszystko/
DESCRIPTION:Na początek Roku Akademickiego wszystkim nowym studentom chcie
 liśmy przypomnieć: MAMA\, MAMA ostrzegała..... \;)\n\nMówiliśmy\, że
  u nas niedziele są wyjątkowe... \;) \n DISCO PONAD WSZYSTKO! \n________
 ________________________________________\n\nStart 21:00\nKlub zastrzega so
 bie prawo do selekcji gości +18.\n_______________________________________
 _________\nWjazd na imprezę: \nLista FB do 22 wejście free. (Listę zamy
 kamy o 20 w dniu imprezy)\nPo 22 cena biletu wynosi: Studenci 10 zł / Poz
 ostali 15 zł\n\nW ofercie dla Was tego wieczora mamy:\nKoncert zespołu D
 aj to Głośniej\, a przed i po nim zagra DJ Młodziak!\n_________________
 _______________________________\nZnajdź nas również na:\nSnapchat: sile
 nce_club || Instagram: @silenceclub\n\n\n06.10.2019 /niedziela/\nSilenceCl
 ub\nRadziszewskiego 8\nLublin
ATTACH;FMTTYPE=image/jpeg:https://night4u.pl/wp-content/uploads/2019/09/66
 229_image_70417289_3261544787203841_8349187445832548352_o.jpg
CATEGORIES:lubelskie
END:VEVENT
BEGIN:VTIMEZONE
TZID:Europe/Warsaw
X-LIC-LOCATION:Europe/Warsaw
BEGIN:DAYLIGHT
DTSTART:20190331T030000
TZOFFSETFROM:+0100
TZOFFSETTO:+0200
TZNAME:CEST
END:DAYLIGHT
END:VTIMEZONE
END:VCALENDAR