BEGIN:VCALENDAR
VERSION:2.0
PRODID:-//wp-events-plugin.com//7.2.3.1//EN
TZID:Europe/Warsaw
X-WR-TIMEZONE:Europe/Warsaw
BEGIN:VEVENT
UID:6827@night4u.pl
DTSTART;TZID=Europe/Warsaw:20190319T200000
DTEND;TZID=Europe/Warsaw:20190319T230000
DTSTAMP:20190210T152451Z
URL:https://night4u.pl/wydarzenia/damy-rocka-w-starym-klasztorze/
SUMMARY:Damy Rocka w Starym Klasztorze!
DESCRIPTION:Damy Rocka w Starym Klasztorze!\n\nwROCKfest.pl ma zaszczyt zap
 rosić  na premierową odsłonę projektu Damy Rocka.\n19 marca w Sali Got
 yckiej w Starym Klasztorze zabrzmią utwory wielkich wokalistek\,  które 
 na stałe zapisały się w historii muzyki nie tylko rockowej. \nUsłyszym
 y  "Simply the best" i "Proud Mary" - Tiny Turner\, "Jolene" - Dolly Parto
 n\,  "Nothing compares to you" - Sinead O'Connor\, "Upside down" - Diany R
 oss\,  "I say a little prayer" - Arethy Franklin\, "Piece of my heart" - J
 anis Joplin i "Killing me softly" - Lauryn Hill.\nBędą też hity Vaya Co
 n Dios\, Whitney Houston\, Shanii Twain\, Cher\, Celine Dion\, Alicii Keys
 \, Madonny\, Etty James i innych wspaniałych wokalistek. Nie zabraknie te
 ż polskich akcentów w utworach  m.in. Miry Kubasińskiej czy Maryli Rodo
 wicz.\n\nMuzyczny damski wieczór poprowadzą dwie wrocławskie wokalistki
 : \nNatalia Juszczyszyn i Nikola Warda \nz towarzyszeniem zespołu w skła
 dzie:\nGabrysia Cybuch - chórki\, flet poprzeczny\nAdam Komorowski - pian
 o\nRobert Dachowski - perkusja\nMagdalena Dachowska - bas\nMarcin Gołda -
  gitara\nŁukasz Parlicki - gitara\n\n19.03.19 godz.20.00 Sala Gotycka w S
 tarym Klasztorze\, ul. Purkyniego 1\nwROCKfest.pl prezentuje: \nDAMY ROCKA
 \nmiejsca siedzące: 35 zł - przedsprzedaż w klubie i rezerwacje: bilety
 @o2.pl\, 40 zł - w punktach sprzedaży i w dniu koncertu\nmiejsca stojąc
 e: 25 zł - przedsprzedaż w klubie i rezerwacje: bilety@o2.pl\, 30 zł - 
 w punktach sprzedaży i w dniu koncertu\n\nBilety dostępne w sieci salon
 ów Empik i MediaMarkt w całej Polsce\noraz w serwisach: www.staryklaszto
 r.com.pl/bilety/\, www.biletin.pl\, www.biletyna.pl\, www.eventim.pl\, www
 .ebilet.pl\, www.kupbilecik.pl\, www.empikbilety.pl \nrezerwacje: bilety@o
 2.pl\n\nUwaga\, kupuj bilety wyłącznie w autoryzowanych punktach! \nZaku
 p biletów poza autoryzowanymi punktami sprzedaży (Facebook\, aukcje inte
 rnetowe\, systemy odsprzedaży biletów itp.) stwarza ryzyko zakupu bilet
 ów nieoryginalnych lub nieważnych\, które nie umożliwią wejścia na k
 oncert.
ATTACH;FMTTYPE=image/jpeg:https://night4u.pl/wp-content/uploads/2019/02/19
 938_image_49840960_2016313515150440_6764280063329304576_o.jpg
CATEGORIES:dolnośląskie
LOCATION:Stary Klasztor\, Purkyniego 1\, Wroclaw\, 50-155\, Poland
GEO:51.110198;17.039162
X-APPLE-STRUCTURED-LOCATION;VALUE=URI;X-ADDRESS=Purkyniego 1\, Wroclaw\, 50
 -155\, Poland;X-APPLE-RADIUS=100;X-TITLE=Stary Klasztor:geo:51.110198,17.0
 39162
END:VEVENT
BEGIN:VTIMEZONE
TZID:Europe/Warsaw
X-LIC-LOCATION:Europe/Warsaw
BEGIN:STANDARD
DTSTART:20181028T020000
TZOFFSETFROM:+0200
TZOFFSETTO:+0100
TZNAME:CET
END:STANDARD
END:VTIMEZONE
END:VCALENDAR