BEGIN:VCALENDAR
VERSION:2.0
PRODID:-//wp-events-plugin.com//7.2.3.1//EN
TZID:Europe/Warsaw
X-WR-TIMEZONE:Europe/Warsaw
BEGIN:VEVENT
UID:3051@night4u.pl
DTSTART;TZID=Europe/Warsaw:20190109T200000
DTEND;TZID=Europe/Warsaw:20190109T200000
DTSTAMP:20190108T171344Z
URL:https://night4u.pl/wydarzenia/dance-all-night-long-9-02-zgarnij-05l-wo
 dki-sok/
SUMMARY:Dance all night long :: 9.02 / ZGARNIJ 0\,5L WÓDKI + SOK
DESCRIPTION:Kochani\, zapraszamy do tańca! ?\n\nW środę 9.02 pojawi się
  dużo muzyki tanecznej\, popu\, i najbardziej znanych radiowych hiciorów
  ?\n\nMamy dla Was również niespodziankę! ?\n\nSpośród osób które k
 likną ✅ "wezmę udział w wydarzeniu" oraz udostępnią je na swojej ta
 blicy rozlosujemy zwycięzce który zgarnie 0\,5 wódki z sokiem❗\n\nZwy
 cięzca zostanie wylosowany na relacji na Naszym fb. Nagroda do odbioru w 
 dniu imprezy do 22:00! ?\n\n\nZapraaaaszaaamy! ?\nWstęp free! \nStart: 20
 :00
ATTACH;FMTTYPE=image/jpeg:https://night4u.pl/wp-content/uploads/2019/01/10
 224_image_49464997_1949458705172840_6007047388827484160_n.jpg
CATEGORIES:podkarpackie
LOCATION:Czarny Kot Klub\, Rynek 15\, Rzeszów\, 35-064\, Poland
GEO:50.03747;22.00564
X-APPLE-STRUCTURED-LOCATION;VALUE=URI;X-ADDRESS=Rynek 15\, Rzeszów\, 35-06
 4\, Poland;X-APPLE-RADIUS=100;X-TITLE=Czarny Kot Klub:geo:50.03747,22.0056
 4
END:VEVENT
BEGIN:VTIMEZONE
TZID:Europe/Warsaw
X-LIC-LOCATION:Europe/Warsaw
BEGIN:STANDARD
DTSTART:20181028T020000
TZOFFSETFROM:+0200
TZOFFSETTO:+0100
TZNAME:CET
END:STANDARD
END:VTIMEZONE
END:VCALENDAR