BEGIN:VCALENDAR
VERSION:2.0
PRODID:-//wp-events-plugin.com//7.2.3.1//EN
TZID:Europe/Warsaw
X-WR-TIMEZONE:Europe/Warsaw
BEGIN:VEVENT
UID:41008@night4u.pl
DTSTART;TZID=Europe/Warsaw:20191228T210000
DTEND;TZID=Europe/Warsaw:20191228T210000
DTSTAMP:20191228T091024Z
URL:https://night4u.pl/wydarzenia/dance-like-nobodys-watching-3/
SUMMARY:Dance like nobody's watching!
DESCRIPTION:W przedświąteczną sobotę Matthias Hoss gra dla Was\, w nasz
 ym stylu\, perły najlepszej ery tanecznej. \nCzyli wszystko to\, do czego
  nóżka Wam tupie i uśmiech pojawia się na Waszych twarzach nawet gdy s
 łyszycie to w poniedziałkowym korku do pracy. Zapnijcie pasy Kochani! B
 ędziemy tańczyć jak źli do samego rana!\nStart 21:00\n+21 kobiety/ 23 
 mężczyźni \nobowiązuje selekcja\ndress code: smart casual\nBilety:\n20
  zł\ndo 22:00 kobiety FREE\nVIP 50 zł\nRezerwacje:\nhttps://rezerwacje.v
 andiesel.pl
ATTACH;FMTTYPE=image/jpeg:https://night4u.pl/wp-content/uploads/2019/12/12
 7227_image_81862965_3816973858316545_7448303663061139456_n.jpg
CATEGORIES:wielkopolskie
LOCATION:Van Diesel Club\, Stary Rynek 88\, Poznan\, 61-722\, Poland
GEO:52.408864;16.933094
X-APPLE-STRUCTURED-LOCATION;VALUE=URI;X-ADDRESS=Stary Rynek 88\, Poznan\, 6
 1-722\, Poland;X-APPLE-RADIUS=100;X-TITLE=Van Diesel Club:geo:52.408864,16
 .933094
END:VEVENT
BEGIN:VTIMEZONE
TZID:Europe/Warsaw
X-LIC-LOCATION:Europe/Warsaw
BEGIN:STANDARD
DTSTART:20191027T020000
TZOFFSETFROM:+0200
TZOFFSETTO:+0100
TZNAME:CET
END:STANDARD
END:VTIMEZONE
END:VCALENDAR