BEGIN:VCALENDAR
VERSION:2.0
PRODID:-//wp-events-plugin.com//7.2.3.1//EN
TZID:Europe/Warsaw
X-WR-TIMEZONE:Europe/Warsaw
BEGIN:VEVENT
UID:46785@night4u.pl
DTSTART;TZID=Europe/Warsaw:20200208T210000
DTEND;TZID=Europe/Warsaw:20200208T210000
DTSTAMP:20200208T090934Z
URL:https://night4u.pl/wydarzenia/dance-like-nobodys-watching-9/
SUMMARY:Dance like nobody's watching!
DESCRIPTION:W najbliższą sobotę Matthias Hoss gra dla Was\, w naszym sty
 lu\, perły najlepszej ery tanecznej. \nCzyli wszystko to\, do czego nóż
 ka Wam tupie i uśmiech pojawia się na Waszych twarzach nawet gdy słyszy
 cie to w poniedziałkowym korku do pracy. Zapnijcie pasy Kochani! Będziem
 y tańczyć jak źli do samego rana!\nStart 21:00\n+21 kobiety/ 23 mężcz
 yźni \nobowiązuje selekcja\ndress code: smart casual\nBilety:\n20 zł\nd
 o 22:00 kobiety FREE\nVIP 50 zł\nRezerwacje:\nhttps://rezerwacje.vandiese
 l.pl
ATTACH;FMTTYPE=image/jpeg:https://night4u.pl/wp-content/uploads/2020/02/15
 3922_image_85220537_3956883314325598_1219670905613975552_o.jpg
CATEGORIES:wielkopolskie
LOCATION:Van Diesel Club\, Stary Rynek 88\, Poznan\, 61-722\, Poland
GEO:52.408864;16.933094
X-APPLE-STRUCTURED-LOCATION;VALUE=URI;X-ADDRESS=Stary Rynek 88\, Poznan\, 6
 1-722\, Poland;X-APPLE-RADIUS=100;X-TITLE=Van Diesel Club:geo:52.408864,16
 .933094
END:VEVENT
BEGIN:VTIMEZONE
TZID:Europe/Warsaw
X-LIC-LOCATION:Europe/Warsaw
BEGIN:STANDARD
DTSTART:20191027T020000
TZOFFSETFROM:+0200
TZOFFSETTO:+0100
TZNAME:CET
END:STANDARD
END:VTIMEZONE
END:VCALENDAR