BEGIN:VCALENDAR
VERSION:2.0
PRODID:-//wp-events-plugin.com//7.2.3.1//EN
TZID:Europe/Warsaw
X-WR-TIMEZONE:Europe/Warsaw
BEGIN:VEVENT
UID:16164@night4u.pl
DTSTART;TZID=Europe/Warsaw:20190518T210000
DTEND;TZID=Europe/Warsaw:20190519T060000
DTSTAMP:20190514T213741Z
URL:https://night4u.pl/wydarzenia/dancing-in-the-moonlight-18-05-do-2200-w
 ejscie-free/
SUMMARY:Dancing in The Moonlight // 18.05 // Do 22:00 wejście free
DESCRIPTION:Poddaj się magii księżyca w pełni ? Tego dnia kosmiczne si
 ły działają z pełną mocą\, by wspólnie z nami zrobić taką imprez
 ę jakiej w Lublinie jeszcze nie było! ?\n\n-----------------------------
 -------------------\n➡️Start 21:00\n➡️Do 22:00 - LISTA FB FREE\n
 ➡️Od 22:00 - 23:00 - 10 zł \n➡️Po 23:00 - 15 zł\n\nBilet wstępu
  obowiązuje do lokali:\nHelium Club\nRzut Beretem\nEl Cubano\nRIVIERA\n\n
 seats & tables/ rezerwacje stolików\n☎️: 725700205 (wt-sob. 17:00-20:
 00)\nWejście 18+ / DOOR SELECTION\n--------------------------------------
 -----------
ATTACH;FMTTYPE=image/jpeg:https://night4u.pl/wp-content/uploads/2019/05/39
 607_image_59959386_2331309273578711_1873971532066193408_o.jpg
CATEGORIES:lubelskie
LOCATION:Riviera Klub Plażowy\, Lublin\, Poland
GEO:51.245225;22.557649
X-APPLE-STRUCTURED-LOCATION;VALUE=URI;X-ADDRESS=Lublin\, Poland;X-APPLE-RAD
 IUS=100;X-TITLE=Riviera Klub Plażowy:geo:51.245225,22.557649
END:VEVENT
BEGIN:VTIMEZONE
TZID:Europe/Warsaw
X-LIC-LOCATION:Europe/Warsaw
BEGIN:DAYLIGHT
DTSTART:20190331T030000
TZOFFSETFROM:+0100
TZOFFSETTO:+0200
TZNAME:CEST
END:DAYLIGHT
END:VTIMEZONE
END:VCALENDAR