BEGIN:VCALENDAR
VERSION:2.0
PRODID:-//wp-events-plugin.com//7.2.3.1//EN
TZID:Europe/Warsaw
X-WR-TIMEZONE:Europe/Warsaw
BEGIN:VEVENT
UID:18978@night4u.pl
DTSTART;TZID=Europe/Warsaw:20190615T210000
DTEND;TZID=Europe/Warsaw:20190616T060000
DTSTAMP:20190611T180518Z
URL:https://night4u.pl/wydarzenia/dancing-shoes-15-06-do-2200-wejscie-free
 /
SUMMARY:Dancing Shoes // 15.06 // Do 22:00 wejście free
DESCRIPTION:Zapraszamy na sobotni przegląd nieśmiertelnych klasyków z la
 t 70/80/90/00 i największych Polskich hitów ♥ Nasi rezydenci wprowadz
 ą Was w taneczne rytmy z najwyższej połki! :D \nI jak zawsze\, czeka Wa
 s zabawa do rana :)\n\n---------------------------------------------------
 -----\n\n⭐️ SOBOTA ⭐️\n\n➡️Start 21:00\n➡️Do 22:00 - wejś
 cie free\n➡️22:00-23:00 - 10zł\n➡️Po 23:00 - 15zł\n\nBilet wstę
 pu obowiązuje do lokali:\nHelium Club\nRzut Beretem\nEl Cubano\nRIVIERA\n
 \nseats & tables/ rezerwacje stolików\n☎️: 725700205 (wt-sob. 17:00-2
 0:00)\nWejście 18+ / DOOR SELECTION
ATTACH;FMTTYPE=image/jpeg:https://night4u.pl/wp-content/uploads/2019/06/45
 897_image_62156914_1819787638168110_6240774535503675392_o.jpg
CATEGORIES:lubelskie
LOCATION:Rzut Beretem\, Hempla 5\, Lublin\, 20-008\, Poland
GEO:51.245421;22.557279
X-APPLE-STRUCTURED-LOCATION;VALUE=URI;X-ADDRESS=Hempla 5\, Lublin\, 20-008\
 , Poland;X-APPLE-RADIUS=100;X-TITLE=Rzut Beretem:geo:51.245421,22.557279
END:VEVENT
BEGIN:VTIMEZONE
TZID:Europe/Warsaw
X-LIC-LOCATION:Europe/Warsaw
BEGIN:DAYLIGHT
DTSTART:20190331T030000
TZOFFSETFROM:+0100
TZOFFSETTO:+0200
TZNAME:CEST
END:DAYLIGHT
END:VTIMEZONE
END:VCALENDAR