BEGIN:VCALENDAR
VERSION:2.0
PRODID:-//wp-events-plugin.com//7.2.3.1//EN
TZID:Europe/Warsaw
X-WR-TIMEZONE:Europe/Warsaw
BEGIN:VEVENT
UID:30534@night4u.pl
DTSTART;TZID=Europe/Warsaw:20200116T200000
DTEND;TZID=Europe/Warsaw:20200116T220000
DTSTAMP:20200116T005059Z
URL:https://night4u.pl/wydarzenia/daniel-spaleniak-zagra-w-rzeszowie-under
 ground-pub/
SUMMARY:Daniel Spaleniak zagra w Rzeszowie - Niezła Sztuka
DESCRIPTION:Koncert przeniesiony do Niezła Sztuka\n\n***\n\nDANIEL SPALENI
 AK\nRzeszów - Niezła Sztuka\nczwartek\, 16 stycznia 2020\, godz. 20:00\n
 \nBilety: 30 zł - przedsprzedaż / 40 zł - w dniu koncertu\n\nDaniel Spa
 leniak\nDaniel Spaleniak to 26-letni muzyk\, producent\,  kompozytor i aut
 or tekstów. Jego eteryczne\, bluesowo-folkowe utwory wzbudziły bardzo du
 że zainteresowanie na amerykańskim rynku\, w związku z czym jego kompoz
 ycje (między innymi „Dear love of mine”\, „Why”\, „Back Home”
 )  można usłyszeć dziś w tak popularnych produkcjach jak: „Ozark” 
 (Netflix)\, „Elementary (CBS)\, „Six” (History Chanel)\, „Good Beh
 avior” (TNT)\, „The Path” (Hulu) czy „Shooter” (Paramount). To j
 edyny Polak\, którego twórczość tak mocna zagościła w amerykańskich
  produkcjach filmowych.\n– Nic dziwnego\, że Spaleniak podoba się za o
 ceanem\, bo jego muzyka to mieszanka folku\, białego bluesa i alternatywn
 ego luzu\, idealnie skrojona pod nocną podróż Drogą 66 – pisze Jarek
  Szubrycht\, dziennikarz „Gazety Magnetofonowej” i „Gazety Wyborczej
 ”.\nDaniel ma na koncie już cztery albumy\, które spotkały się z uzn
 aniem fanów i krytyków muzycznych. Jego trzecia płyta „Life is somewh
 ere else” była nominowana do nagrody Fryderyki  2019 w kategorii „Blu
 es/Country”. Artysta oprócz tego\, że wydaje płyty\, pisze również 
 muzykę do filmów i seriali. Ostatni album „Burning Sea”\, wydany w 2
 019 roku jest zbiorem utworów\, które znalazły się w tego typu produkc
 jach. \n– Nie dziwią mnie pojawiające się głosy\, że Danielowi Spal
 eniakowi z uwagą przyglądają się przedstawiciele scen zagranicznych. J
 ego poszukiwania klimatu\, zabawy powtarzalnością form przywodzą na my
 śl zjawiska\, które od ponad dekady przebijają się na światowej sceni
 e alternatywnej. (…) to muzyka pobudzająca wyobraźnię\, która spokoj
 nie mogłaby pojawić się jako ścieżka dźwiękowa do filmu lub serialu
  – pisze Marcin Cichoński w tygodniku „Wprost”.\nOprócz tego Spale
 niak aktywnie koncertuje ze swoimi muzykami. Zagrał na tak kultowych fest
 iwalach jak Opener\, OFF Festiwal\, Halfway czy Soundrive\, a w sierpniu 2
 016 roku nagrał sesję dla legendarnej stacji radiowej KEXP z Seattle.\n\
 nPróbka muzyki:\nhttps://soundcloud.com/danielspaleniak\nStrona artysty:\
 nwww.facebook.com/danielspaleniakmusic\n\nKontakt: Agencja Koncertowa Bor
 ówka Music - www.facebook.com/borowkamusic
ATTACH;FMTTYPE=image/jpeg:https://night4u.pl/wp-content/uploads/2019/12/70
 351_image_80253207_1630536743753017_1121524546348777472_o.jpg
CATEGORIES:podkarpackie
LOCATION:Niezła Sztuka\, Ul. Sobieskiego 18\, Rzeszów\, 35-001\, Poland
GEO:50.038909;22.007654
X-APPLE-STRUCTURED-LOCATION;VALUE=URI;X-ADDRESS=Ul. Sobieskiego 18\, Rzesz
 ów\, 35-001\, Poland;X-APPLE-RADIUS=100;X-TITLE=Niezła Sztuka:geo:50.038
 909,22.007654
END:VEVENT
BEGIN:VTIMEZONE
TZID:Europe/Warsaw
X-LIC-LOCATION:Europe/Warsaw
BEGIN:STANDARD
DTSTART:20191027T020000
TZOFFSETFROM:+0200
TZOFFSETTO:+0100
TZNAME:CET
END:STANDARD
END:VTIMEZONE
END:VCALENDAR