BEGIN:VCALENDAR
VERSION:2.0
PRODID:-//wp-events-plugin.com//7.2.3.1//EN
TZID:Europe/Warsaw
X-WR-TIMEZONE:Europe/Warsaw
BEGIN:VEVENT
UID:36120@night4u.pl
DTSTART;TZID=Europe/Warsaw:20191122T220000
DTEND;TZID=Europe/Warsaw:20191123T060000
DTSTAMP:20191119T110535Z
URL:https://night4u.pl/wydarzenia/danny-v-sebastien/
SUMMARY:Danny V &amp\; Sèbastien
DESCRIPTION:► Danny V. - wysoki blondyn o niebieskich oczach. Pochodzi ze
  Lwowa\, ale na dobre zadomowił się już w Trójmieście. Miesza różne
  style\, ale kocha elektronikę – pozytywna energia\, gitara i dużo bas
 u. Członek kolektywu Northsiders \n\n► Sèbastien - z wykształcenia za
 rządca\, komendant melanżu z powołania. Niczym kapłan na mszy odprawia
  swoje muzyczne misteria bez prowadzenia kazań.\n1/2 duetu TÉ. Bity Kole
 ktiv\n\nTrochę Disco\, trochę Popa\, trochę Indie\, trochę Rocka.\n\nS
 tart: 22:00\nWjazd: free! // selekcja
ATTACH;FMTTYPE=image/jpeg:https://night4u.pl/wp-content/uploads/2019/11/97
 465_image_75603862_10157613274303745_3055078342941212672_o.jpg
CATEGORIES:pomorskie
LOCATION:Cafe Absinthe Gdańsk\, Targ Węglowy(Teatr Wybrzeże)\, Gdansk\, 
 80-834\, Poland
GEO:54.350816;18.64826
X-APPLE-STRUCTURED-LOCATION;VALUE=URI;X-ADDRESS=Targ Węglowy(Teatr Wybrze
 że)\, Gdansk\, 80-834\, Poland;X-APPLE-RADIUS=100;X-TITLE=Cafe Absinthe G
 dańsk:geo:54.350816,18.64826
END:VEVENT
BEGIN:VTIMEZONE
TZID:Europe/Warsaw
X-LIC-LOCATION:Europe/Warsaw
BEGIN:STANDARD
DTSTART:20191027T020000
TZOFFSETFROM:+0200
TZOFFSETTO:+0100
TZNAME:CET
END:STANDARD
END:VTIMEZONE
END:VCALENDAR