BEGIN:VCALENDAR
VERSION:2.0
PRODID:-//wp-events-plugin.com//7.2.3.1//EN
TZID:Europe/Warsaw
X-WR-TIMEZONE:Europe/Warsaw
BEGIN:VEVENT
UID:33644@night4u.pl
DTSTART;TZID=Europe/Warsaw:20191109T210000
DTEND;TZID=Europe/Warsaw:20191110T030000
DTSTAMP:20191110T002806Z
URL:https://night4u.pl/wydarzenia/danza-astrale-%e2%9c%a6/
SUMMARY:Danza Astrale ✦
DESCRIPTION:Halo halo\, próba mikrofonu! Testujemy miejsce\, testujemy nag
 łośnienie\, testujemy publiczność. W odświeżonym składzie zaproponu
 jemy w sobotnią noc starannie wyselekcjonowaną mieszankę najróżniejsz
 ych stylów muzyki elektronicznej. Od tej imprezy wiele zależy\, więc po
 trzebujemy Was wszystkich na pokładzie!\n\nSkład znany (częściowo) z p
 oprzednich inicjatyw ElectricFeels\, dawniej Elektroniczna Odyseja i Elekt
 roniczna Odyseja. Trzech didżejów\, trzy osobowości\, trzy style. Każd
 y wart najwyższej uwagi.\n\nKarina\nJust_in\nSiapa Bum\n\nPo sąsiedzku\,
  na głównym parkiecie\, odbędzie się rozkładowa impreza Bramy.
ATTACH;FMTTYPE=image/jpeg:https://night4u.pl/wp-content/uploads/2019/10/84
 731_image_73067823_105363404226786_2976171186599231488_o.jpg
CATEGORIES:podlaskie
LOCATION:Klub Brama Suwałki\, WARYŃSKIEGO 7\, Suwałki\, 16-400\, Poland
GEO:54.099;22.930737
X-APPLE-STRUCTURED-LOCATION;VALUE=URI;X-ADDRESS=WARYŃSKIEGO 7\, Suwałki\,
  16-400\, Poland;X-APPLE-RADIUS=100;X-TITLE=Klub Brama Suwałki:geo:54.099
 ,22.930737
END:VEVENT
BEGIN:VTIMEZONE
TZID:Europe/Warsaw
X-LIC-LOCATION:Europe/Warsaw
BEGIN:STANDARD
DTSTART:20191027T020000
TZOFFSETFROM:+0200
TZOFFSETTO:+0100
TZNAME:CET
END:STANDARD
END:VTIMEZONE
END:VCALENDAR