BEGIN:VCALENDAR
VERSION:2.0
PRODID:-//wp-events-plugin.com//7.2.3.1//EN
TZID:Europe/Warsaw
X-WR-TIMEZONE:Europe/Warsaw
BEGIN:VEVENT
UID:3698@night4u.pl
DTSTART;TZID=Europe/Warsaw:20190215T210000
DTEND;TZID=Europe/Warsaw:20190216T060000
DTSTAMP:20190116T101541Z
URL:https://night4u.pl/wydarzenia/dapper-ft-perel-milosc/
SUMMARY:Dapper Ft. Perel // miłość
DESCRIPTION:”Ostatnio w mieście mym tramwaje po północy błądzą\nRoz
 kładem nocnych tras piekielne jakieś moce rządzą\nNie wiedzieć czemu 
 wciąż rozkłady jazdy tak zmieniają\,\nŻe prawie każdy tramwaj pod tw
 ym oknem nocą staje.”\n\nTej wyjątkowej nocy spotykamy się w murach P
 różności\, by wspólnie celebrować Dzień Zakochanych oraz 7. rocznic
 ę działalności DAPPER.\n\nNa Sali Lustrzanej powitamy niemiecką DJ-kę
  Perel!\n\n/ DAPPER MEETS PEREL /\n\nAnnegret w swoich setach jak i w cał
 ym życiu skupia się na muzyce pop\, indie\, italo disco i house. Uwielbi
 a też fortepian - już w wieku 8 lat zaczęła pisać pierwsze piosenki. 
 W 2018 roku wydała płytę HERMETICA\, która do dziś mocno odbija się 
 w całym świecie muzyki elektronicznej.\n\nBILETY: na wejsciu\n\nSala Lus
 trzana:\nPerel\ni goście\n\nSala Szampańska:\nÊtre Kolektiv\n\nWEJŚCIE
 :\n? - wstęp free\nPozostali goście - 20 PLN\n\n\nZASADY KLUBU:\n- selek
 cja\n- dress code: wyjątkowość\n- tylko próżne zdjęcia
ATTACH;FMTTYPE=image/jpeg:https://night4u.pl/wp-content/uploads/2019/01/11
 615_image_49778951_348806665850664_3675871996782051328_o.jpg
CATEGORIES:wielkopolskie
LOCATION:Próżność\, Niepodległości 8a\, Poznan\, 61-875\, Poland
GEO:52.405584;16.91872
X-APPLE-STRUCTURED-LOCATION;VALUE=URI;X-ADDRESS=Niepodległości 8a\, Pozna
 n\, 61-875\, Poland;X-APPLE-RADIUS=100;X-TITLE=Próżność:geo:52.405584,
 16.91872
END:VEVENT
BEGIN:VTIMEZONE
TZID:Europe/Warsaw
X-LIC-LOCATION:Europe/Warsaw
BEGIN:STANDARD
DTSTART:20181028T020000
TZOFFSETFROM:+0200
TZOFFSETTO:+0100
TZNAME:CET
END:STANDARD
END:VTIMEZONE
END:VCALENDAR