BEGIN:VCALENDAR
VERSION:2.0
PRODID:-//wp-events-plugin.com//7.2.3.1//EN
TZID:Europe/Warsaw
X-WR-TIMEZONE:Europe/Warsaw
BEGIN:VEVENT
UID:4446@night4u.pl
DTSTART;TZID=Europe/Warsaw:20190209T200000
DTEND;TZID=Europe/Warsaw:20190209T230000
DTSTAMP:20190120T192010Z
URL:https://night4u.pl/wydarzenia/das-moon-rmx-tour-lodz/
SUMMARY:DAS MOON / RMX Tour / Łódź
DESCRIPTION:DAS MOON\nnew wave // dark electro // techno \nRMX TOUR 2019\n\
 nDas Moon powraca na trasę koncertową. \nPo niemal rocznej przerwie od k
 oncertowania\, po podróżach na zewnątrz i do wewnątrz\, po ucieczce od
  dotychczasowej koncepcji muzyki i po totalnym w niej zagłębieniu\, Das 
 Moon\, jeden z najważniejszych polskich zespołów new wave/dark electro\
 ,  wyruszy w wyjątkową trasę koncertową RMX TOUR. \n\nRMX TOUR to nowe
  brzmienie Das Moon\, wykorzystujące nieograniczone możliwości elektron
 iki i live-actu. Punktem wyjścia jest dotychczasowy dorobek Das Moon. Muz
 ycy zaprezentują również premierowy materiał\, który trafi na nową p
 łytę.  \n\nGrupa Das Moon powstała w Warszawie w 2010 roku. Ma na swoim
  koncie trzy albumy: "Electrocution" (2011\, Polskie Radio)\, "Weekend In 
 Paradise" (2014\, Requiem Records) i "Dead" (2017\, Requiem Records). Od r
 oku 2011 zagrali kilkadziesiąt koncertów w Polsce i za granicą. W 2012 
 otworzyli festiwal Electronic Beats w Gdańsku\, grając przed Squarepushe
 rem i Jamesem Blake'em. Zagrali też m.in. na największym na świecie fes
 tiwalu muzyki dark i electro-industrial Wave Gotik Treffen (WGT) w Lipsku 
 i festiwalu Mayday w katowickim Spodku. Das  Moon dzielił scenę z wielom
 a kultowymi artystami\, m. in. Psychic TV\, Westbam\, Front Line Assembly\
 , De/Vision\, Camouflage\, Clan of Xymox i Jazzanova.\n\nDas Moon tworzą:
  Daisy K\, Musiol i Dj Hiro Szyma\n\nDAS MOON:\ncontact: manager@dasmoon.p
 l\ntel. 501 784 954\n\n\nlinki:\nSpotify: https://open.spotify.com/artist/
 0P1Reib7muU8WMztwyTzwS\nYT: https://www.youtube.com/user/dasmoonvideo\nFB:
  www.facebook.com/dasmoonband\n\n\n=======================================
 ======\notwarcie klubu - 20:00\nstart koncertu - 21:00\n(podane godziny s
 ą orientacyjne i mogą ulec zmianie)\n\nBilety:\nPrzedsprzedaż online:\n
 Going:\nI pula - 25\,- zł\nII pula - 30\,- zł\nIII pula - 35\,- zł\n\nW
  dniu koncertu w klubie - 40\,- zł (dostępne w wypadku niewyczerpania bi
 letów w przedsprzedaży)
ATTACH;FMTTYPE=image/jpeg:https://night4u.pl/wp-content/uploads/2019/01/14
 759_image_50301131_2320886301257848_5474873264083828736_o.jpg
CATEGORIES:łódzkie
LOCATION:SODA Underground Stage\, Plac Komuny Paryskiej 6\, Łódź\, 90-00
 7\, Poland
GEO:51.76518;19.45941
X-APPLE-STRUCTURED-LOCATION;VALUE=URI;X-ADDRESS=Plac Komuny Paryskiej 6\, 
 Łódź\, 90-007\, Poland;X-APPLE-RADIUS=100;X-TITLE=SODA Underground Stag
 e:geo:51.76518,19.45941
END:VEVENT
BEGIN:VTIMEZONE
TZID:Europe/Warsaw
X-LIC-LOCATION:Europe/Warsaw
BEGIN:STANDARD
DTSTART:20181028T020000
TZOFFSETFROM:+0200
TZOFFSETTO:+0100
TZNAME:CET
END:STANDARD
END:VTIMEZONE
END:VCALENDAR