BEGIN:VCALENDAR
VERSION:2.0
PRODID:-//wp-events-plugin.com//7.2.3.1//EN
TZID:Europe/Warsaw
X-WR-TIMEZONE:Europe/Warsaw
BEGIN:VEVENT
UID:33993@night4u.pl
DTSTART;TZID=Europe/Warsaw:20191110T220000
DTEND;TZID=Europe/Warsaw:20191111T060000
DTSTAMP:20200401T084743Z
URL:https://night4u.pl/wydarzenia/dbl-x-nexboy-x-mr-basic-independence-day
 /
SUMMARY:Independence Day
DESCRIPTION:DBL x NEXBOY x Mr Basic // Independence Day\n\nRezerwacja lóż
  www.wroclaw.xdemon.pl\nSelekcja +18
ATTACH;FMTTYPE=image/jpeg:https://night4u.pl/wp-content/uploads/2019/10/86
 696_image_73523619_1165026773682000_9153021215575638016_o.jpg
CATEGORIES:dolnośląskie
LOCATION:X-Demon - Wrocław\, \, 
X-APPLE-STRUCTURED-LOCATION;VALUE=URI;X-ADDRESS=\, ;X-APPLE-RADIUS=100;X-TI
 TLE=X-Demon - Wrocław:geo:0,0
END:VEVENT
BEGIN:VTIMEZONE
TZID:Europe/Warsaw
X-LIC-LOCATION:Europe/Warsaw
BEGIN:STANDARD
DTSTART:20191027T020000
TZOFFSETFROM:+0200
TZOFFSETTO:+0100
TZNAME:CET
END:STANDARD
END:VTIMEZONE
END:VCALENDAR