BEGIN:VCALENDAR
VERSION:2.0
PRODID:-//wp-events-plugin.com//7.2.3.1//EN
TZID:Europe/Warsaw
X-WR-TIMEZONE:Europe/Warsaw
BEGIN:VEVENT
UID:38488@night4u.pl
DTSTART;TZID=Europe/Warsaw:20200229T190000
DTEND;TZID=Europe/Warsaw:20200301T005900
DTSTAMP:20200229T154748Z
URL:https://night4u.pl/wydarzenia/deadfest-vol-3/
SUMMARY:DeadFest vol.3 In Memory of Pimpas!
DESCRIPTION:Kolejna odsłona death metalowego festiwalu! \n\nWYSTĄPIĄ:\nI
 n Demoni (Niemcy)\nhttps://www.facebook.com/InDemoni/\n\nAstarot (Leszno)\
 nhttps://www.facebook.com/ASTAROT666PL/?fref=profile_friend_list&amp\;hc_l
 ocation=profile_browse\n\nPorky Vagina (Strzelce Opolskie)\nhttps://www.fa
 cebook.com/waginamaciory/\n\nNexus (Wrocław)\nhttps://www.facebook.com/Ne
 xus2137/\n\n***\n\nBramka 18:00\nStart 19:00.\n\n\nBILETY W DNIU KONCERTU 
 20 ZŁ\nPRZEDSPRZEDAŻ W KLUBIE ALIVE 15 ZŁ
ATTACH;FMTTYPE=image/jpeg:https://night4u.pl/wp-content/uploads/2019/12/10
 9953_image_74444803_940835529631111_5692634844794716160_n.jpg
CATEGORIES:dolnośląskie
LOCATION:Alive\, ul. Kolejowa 12\, Wroclaw\, 53-508\, Poland
GEO:51.10138;17.02286
X-APPLE-STRUCTURED-LOCATION;VALUE=URI;X-ADDRESS=ul. Kolejowa 12\, Wroclaw\,
  53-508\, Poland;X-APPLE-RADIUS=100;X-TITLE=Alive:geo:51.10138,17.02286
END:VEVENT
BEGIN:VTIMEZONE
TZID:Europe/Warsaw
X-LIC-LOCATION:Europe/Warsaw
BEGIN:STANDARD
DTSTART:20191027T020000
TZOFFSETFROM:+0200
TZOFFSETTO:+0100
TZNAME:CET
END:STANDARD
END:VTIMEZONE
END:VCALENDAR