BEGIN:VCALENDAR
VERSION:2.0
PRODID:-//wp-events-plugin.com//7.2.3.1//EN
TZID:Europe/Warsaw
X-WR-TIMEZONE:Europe/Warsaw
BEGIN:VEVENT
UID:46075@night4u.pl
DTSTART;TZID=Europe/Warsaw:20200207T220000
DTEND;TZID=Europe/Warsaw:20200207T220000
DTSTAMP:20200331T154630Z
URL:https://night4u.pl/wydarzenia/deep-in-music-elektroniczny-azyl-present
 s/
SUMMARY:Deep in music - Elektroniczny Azyl presents
DESCRIPTION:Nowy rok to dla nas nowe wyzwania\, także na polu muzyki tanec
 znej. \nZapraszamy na kolejny spęd pod ziemią\, gdzie znowu podczas hipn
 otycznego tańca\, przeżyjemy chwile uniesienia\, trwogi\, radości i smu
 tku\, a to wszystko okraszone głębią brzmienia zawartego w estetyce dee
 p &amp\; dub techno. \n\nTej nocy gośćmi specjalnymi są:\n\nZ nadchodz
 ącego w tym roku wydawnictwa Elektroniczny Azyl będziecie mogli usłysze
 ć na żywo\, przybywającego z odległej Warszawy - Glitchsquid ze swoim 
 występem w formule live.\n\nDrugim równie ważnym dla mnie gościem jest
  Pathar\, założyciel STK47 Warehouse\, którego  poprosiłem o set w est
 etyce deep &amp\; dub.\n\n\n\n‐‐--Muzyka----\n\nGlitchsquid live !   /
  Elektroniczny Azyl\nhttps://soundcloud.com/ngc2207\n\nPathar / STK47\n\nF
 onix / Elektroniczny Azyl\n\n\n\nVisual : \n\nJozef Pilat / https://jozefp
 ilat.com/\n\nMagic Lights Systems\n\n\nWstęp / entry fee: \n\n10 pln do 2
 4:00\n20 pln po 24:00\n\nP.S\n\nDjs wchodzą za darmo\n\nJeśli nie masz p
 ieniędzy a bardzo Ci zależy aby przyjść napisz mail na adres : elektro
 nicznyazyl@gmail.com \, możemy wpuścić 10 samotnych wędrowców lub wę
 drowniczek.
ATTACH;FMTTYPE=image/jpeg:https://night4u.pl/wp-content/uploads/2020/02/15
 0936_image_85015022_4032425170131864_6899054921602039808_n.jpg
CATEGORIES:małopolskie
LOCATION:Święta Krowa\, Floriańska 16\, Kraków\, 31-021\, Poland
GEO:50.0631;19.93992
X-APPLE-STRUCTURED-LOCATION;VALUE=URI;X-ADDRESS=Floriańska 16\, Kraków\, 
 31-021\, Poland;X-APPLE-RADIUS=100;X-TITLE=Święta Krowa:geo:50.0631,19.9
 3992
END:VEVENT
BEGIN:VTIMEZONE
TZID:Europe/Warsaw
X-LIC-LOCATION:Europe/Warsaw
BEGIN:STANDARD
DTSTART:20191027T020000
TZOFFSETFROM:+0200
TZOFFSETTO:+0100
TZNAME:CET
END:STANDARD
END:VTIMEZONE
END:VCALENDAR