BEGIN:VCALENDAR
VERSION:2.0
PRODID:-//wp-events-plugin.com//7.2.3.1//EN
TZID:Europe/Warsaw
X-WR-TIMEZONE:Europe/Warsaw
BEGIN:VEVENT
UID:2031@night4u.pl
DTSTART;TZID=Europe/Warsaw:20190126T203000
DTEND;TZID=Europe/Warsaw:20190126T223000
DTSTAMP:20181231T132910Z
URL:https://night4u.pl/wydarzenia/deep-noir-by-rebel-ballerina-sensualite/
SUMMARY:Deep Noir by Rebel Ballerina „Sensualité"
DESCRIPTION:Rebel Ballerina - Natalia Maria Wojciechowska i Piekło nad Nie
 bem zapraszają na wyjątkowy spektakl taneczno-burleskowy  „Sensualité
 " w wykonaniu Deep Noir.\n\nDeep Noir\, to zmysłowy i niebywale kobiecy k
 abaret\, którego gwiazdami są kobiety. Każdy show jest czarnym diamente
 m\, a każdy występ w trakcie show unikatową perłą.\n\nPremierowy show
 „Sensualité”\, to istna eksplozja antystycznej zmysłowości w niecod
 ziennym wydaniu - the art of sensuality. Tego wieczoru nie zabraknie uwodz
 icielskiej czerni\, kuszących koronek\, pobudzających wyobraźnię pere
 ł\, głębokiej czerwieni\, a także zmysłowej i klasycznej muzyki. \n\n
 Za koncepcją i scenariuszem stoi Rebel Ballerina\, wyjątkowa artystka o 
 wielu twarzach\, która płynnie porusza się klasyce\, burlesce\, ale te
 ż sztuce performatywnej i nowoczesnej.\n\nZapraszamy za czerwoną kotarę
  na show\, które na długo zostanie w Waszej pamięci.\n\n---\nPiekło na
 d Niebem\nSobota 26/01\nRozpoczęcie spektaklu godz.: 21:30\nObowiązują 
 stroje wieczorowe. \n\nBilety:\n120 PLN - miejsca siedzące przy stoliku d
 wuosobowym (+ kieliszek prosecco)\n80 PLN - miejsca siedzące\n50 PLN - mi
 ejsca stojące\nDostępne na:\nhttps://www.biletomat.pl/inne/deep-noir-the
 -art-of-sensuality-7492/\nhttps://goingapp.pl/evt/2014540/deep-noir-the-ar
 t-of-sensuality
ATTACH;FMTTYPE=image/jpeg:https://night4u.pl/wp-content/uploads/2018/12/80
 76_image_47382982_2204953733102794_7572454125158268928_o.jpg
CATEGORIES:mazowieckie
LOCATION:NIEBO\, ul. Nowy Świat 21\, Warsaw\, 00-029\, Poland
GEO:52.23238;21.018267
X-APPLE-STRUCTURED-LOCATION;VALUE=URI;X-ADDRESS=ul. Nowy Świat 21\, Warsaw
 \, 00-029\, Poland;X-APPLE-RADIUS=100;X-TITLE=NIEBO:geo:52.23238,21.018267
END:VEVENT
BEGIN:VTIMEZONE
TZID:Europe/Warsaw
X-LIC-LOCATION:Europe/Warsaw
BEGIN:STANDARD
DTSTART:20181028T020000
TZOFFSETFROM:+0200
TZOFFSETTO:+0100
TZNAME:CET
END:STANDARD
END:VTIMEZONE
END:VCALENDAR