BEGIN:VCALENDAR
VERSION:2.0
PRODID:-//wp-events-plugin.com//7.2.3.1//EN
TZID:Europe/Warsaw
X-WR-TIMEZONE:Europe/Warsaw
BEGIN:VEVENT
UID:5984@night4u.pl
DTSTART;TZID=Europe/Warsaw:20190308T210000
DTEND;TZID=Europe/Warsaw:20190309T033000
DTSTAMP:20190314T184845Z
URL:https://night4u.pl/wydarzenia/deep4tech-08-03-19-pralnia/
SUMMARY:Deep4Tech / 08.03.19 / Pralnia
DESCRIPTION:Kolejna w tym roku impreza z serii Deep4Tech\, na której bedzi
 ęmy mogli usłyszeć najlepsze brzmienia i poczuć ten energiczny klimat 
 ! Tym razem więcej emocji\, więcej planów i więcej dobrej muzyki aż n
 a dwóch parkietach FLOW i CORE.\n\nFLOW STAGE : DEEP HOUSE - DEEP TECH - 
 TECH HOUSE - TECHNO\n\nCORE STAGE : BASSLINE - DNB - TECH TRANCE  - HARD T
 RANCE - PSYTRANCE - HARD BASS - HARDSTYLE\n\nSTART 21:00 PRALNIA ul. Bohat
 erów Warszawy 75\n\nLINE UP :\n\nDOMINIC DELAY\nFB : \nSOUNDCLOUD : \n\nJ
 AREK RUDNICKI\nFB : https://www.facebook.com/balticwavesofficial/\n\nB-ART
 \nFB : https://www.facebook.com/BArtHardSociety/\n\nJAY BALL\nFB :  https:
 //www.facebook.com/JayBallMixing/\n\nDUFFY DUCK\nhttps://www86.zippyshare.
 com/v/LCMoXTVc/file.html\n\n??????\n??????\n??????\n\nmore info soon ….
ATTACH;FMTTYPE=image/jpeg:https://night4u.pl/wp-content/uploads/2019/01/17
 990_image_50879299_973931289459364_1023856161109049344_o.jpg
CATEGORIES:zachodniopomorskie
LOCATION:Klub Studencki Pralnia\, Bohaterów Warszawy 75\, Szczecin\, 71-07
 0\, Poland
GEO:53.41969;14.53118
X-APPLE-STRUCTURED-LOCATION;VALUE=URI;X-ADDRESS=Bohaterów Warszawy 75\, Sz
 czecin\, 71-070\, Poland;X-APPLE-RADIUS=100;X-TITLE=Klub Studencki Pralnia
 :geo:53.41969,14.53118
END:VEVENT
BEGIN:VTIMEZONE
TZID:Europe/Warsaw
X-LIC-LOCATION:Europe/Warsaw
BEGIN:STANDARD
DTSTART:20181028T020000
TZOFFSETFROM:+0200
TZOFFSETTO:+0100
TZNAME:CET
END:STANDARD
END:VTIMEZONE
END:VCALENDAR