BEGIN:VCALENDAR
VERSION:2.0
PRODID:-//wp-events-plugin.com//7.2.3.1//EN
TZID:Europe/Warsaw
X-WR-TIMEZONE:Europe/Warsaw
BEGIN:VEVENT
UID:25977@night4u.pl
DTSTART;TZID=Europe/Warsaw:20191109T210000
DTEND;TZID=Europe/Warsaw:20191110T040000
DTSTAMP:20191103T100216Z
URL:https://night4u.pl/wydarzenia/defis-d-t-g-daj-to-glosniej/
SUMMARY:Defis &amp\; D.T.G / Daj To Głośniej /
DESCRIPTION:To będzie wyjątkowa noc - Petarda Sobotniej Nocy\nZapiszcie d
 atę 9 Listopad - Start godzina 21:00
ATTACH;FMTTYPE=image/jpeg:https://night4u.pl/wp-content/uploads/2019/10/60
 781_image_75375532_2544680048900806_7266234295667130368_o.jpg
CATEGORIES:małopolskie
LOCATION:Music Club Blue Star\, Sułków 210\, Sułkow\, 32-020\, Poland
GEO:49.98491;20.1078
X-APPLE-STRUCTURED-LOCATION;VALUE=URI;X-ADDRESS=Sułków 210\, Sułkow\, 32
 -020\, Poland;X-APPLE-RADIUS=100;X-TITLE=Music Club Blue Star:geo:49.98491
 ,20.1078
END:VEVENT
BEGIN:VTIMEZONE
TZID:Europe/Warsaw
X-LIC-LOCATION:Europe/Warsaw
BEGIN:STANDARD
DTSTART:20191027T020000
TZOFFSETFROM:+0200
TZOFFSETTO:+0100
TZNAME:CET
END:STANDARD
END:VTIMEZONE
END:VCALENDAR