BEGIN:VCALENDAR
VERSION:2.0
PRODID:-//wp-events-plugin.com//7.2.3.1//EN
TZID:Europe/Warsaw
X-WR-TIMEZONE:Europe/Warsaw
BEGIN:VEVENT
UID:47176@night4u.pl
DTSTART;TZID=Europe/Warsaw:20200226T200000
DTEND;TZID=Europe/Warsaw:20200226T230000
DTSTAMP:20200331T142253Z
URL:https://night4u.pl/wydarzenia/degustacja-rumow-rum-cane/
SUMMARY:Degustacja rumów Rum &amp\; Cane
DESCRIPTION:Zapraszamy was na degustację rumów z destylarni Rum &amp\; Ca
 ne\, Spotkanie poprowadzi Damian Pazgrat z BlackBeard.\n\nDo spróbowania 
 będą:\nBelize XO\nBrazil XO\nNicaragua XO\nGuyana XO\nFiji XO\nPhilippin
 es XO\nkażdy uczestnik wydarzenia będzie miał okazję zdegustowania 20m
 l wszystkich rumów\, koszt degustacji 50zł\n \nZgłoszenia prosimy wysł
 ać na maila schody@schodydonikad.pl\, po potwierdzeniu rezerwacji płatno
 ść przelewem na konto 19 1090 1290 0000 0000 2902 3018
ATTACH;FMTTYPE=image/jpeg:https://night4u.pl/wp-content/uploads/2020/02/15
 7367_image_85182504_3015752838455492_1797166345603776512_o.jpg
CATEGORIES:dolnośląskie
LOCATION:Parrot Rum Embassy\, Plac Solny 13\, Wroclaw\, 50-061\, Poland
GEO:51.10906;17.02869
X-APPLE-STRUCTURED-LOCATION;VALUE=URI;X-ADDRESS=Plac Solny 13\, Wroclaw\, 5
 0-061\, Poland;X-APPLE-RADIUS=100;X-TITLE=Parrot Rum Embassy:geo:51.10906,
 17.02869
END:VEVENT
BEGIN:VTIMEZONE
TZID:Europe/Warsaw
X-LIC-LOCATION:Europe/Warsaw
BEGIN:STANDARD
DTSTART:20191027T020000
TZOFFSETFROM:+0200
TZOFFSETTO:+0100
TZNAME:CET
END:STANDARD
END:VTIMEZONE
END:VCALENDAR